Workbook

Sheet Cover

Sheet Operating metrics
B5: Operational Details | C5: Unit | D5: FY25 | E5: FY26 | F5: YoY Δ | H5: Q4FY25 | I5: Q1FY26 | J5: Q2FY26 | K5: Q3FY26 | L5: Q4FY26 | M5: Q1FY27 | N5: Q2FY27 | O5: YoY Δ | P5: QoQ Δ
B6: Registered user base | C6: # Mns | D6: 53.23 | E6: 68.551543 | F6: =E6/D6-1 -> 0.28783661 | H6: 53.23 | I6: 56.045522 | J6: 59.96 | K6: 63.728208 | L6: 68.551543 | M6: 74.600587 | N6: 79.535267 | O6: =N6/J6-1 -> 0.3264721 | P6: =N6/M6-1 -> 0.066148005
B7: Unique Customers Served (Cumulative) | C7: # Mns | D7: 9.16 | E7: 11.756885 | F7: =E7/D7-1 -> 0.28350273 | H7: 9.16 | I7: 9.693341 | J7: 10.447772 | K7: 11.174296 | L7: 11.756885 | M7: 12.252525 | N7: 12.796769 | O7: =N7/J7-1 -> 0.22483234 | P7: =N7/M7-1 -> 0.044418926
B8: Active Customers* | C8: # Mns | D8: 1.9 | E8: 3.250382 | F8: =E8/D8-1 -> 0.71072737 | H8: 1.9 | I8: 1.654482 | J8: 2.28308 | K8: 2.873584 | L8: 3.250382 | M8: 3.486629 | N8: 3.614545 | O8: =N8/J8-1 -> 0.58318806 | P8: =N8/M8-1 -> 0.036687586
B9: * Active customers represents customers with active non-written off loan balances
B10: Total Disbursements | C10: ₹ in crs | D10: 9857.752 | E10: 12810.19 | F10: =E10/D10-1 -> 0.29950414 | H10: 2637.0054 | I10: 2779.805 | J10: 2962.6916 | K10: 3113.455 | L10: 3954.2379 | M10: 3811.9285 | N10: 4611.5185 | O10: =N10/J10-1 -> 0.55653006 | P10: =N10/M10-1 -> 0.20975995
B11: Avg. Ticket Size | C11: ₹ | D11: 31808.055 | E11: 27615.755 | F11: =E11/D11-1 -> -0.13179993 | H11: 37228.697 | I11: 29315.045 | J11: 23490.978 | K11: 24793.609 | L11: 33695.531 | M11: 37312.112 | N11: 43376.97 | O11: =N11/J11-1 -> 0.84653741 | P11: =N11/M11-1 -> 0.16254394
B12: Avg. Tenure ^ | C12: Months | D12: 9.65 | E12: 14.38 | F12: =E12/D12-1 -> 0.49015544 | H12: 12.73 | I12: 13.16 | J12: 12.45 | K12: 14.34 | L12: 16.72 | M12: 17.09 | N12: 17.832741 | O12: =N12/J12-1 -> 0.43234868 | P12: =N12/M12-1 -> 0.043460567
B13: ^ based on disbursement value
B14: AUM | C14: ₹ in crs | D14: 4086.638 | E14: 7066.439 | F14: =E14/D14-1 -> 0.72915707 | H14: 4086.638 | I14: 4971.54 | J14: 5532.777 | K14: 5955.7527 | L14: 7066.439 | M14: 8000.7465 | N14: 9316.769 | O14: =N14/J14-1 -> 0.68392274 | P14: =N14/M14-1 -> 0.16448747
B16: Customer base profile | C16: =C$5 -> Unit | D16: =D$5 -> FY25 | E16: =E$5 -> FY26 | F16: =F$5 -> YoY Δ | H16: =H$5 -> Q4FY25 | I16: =I$5 -> Q1FY26 | J16: =J$5 -> Q2FY26 | K16: =K$5 -> Q3FY26 | L16: =L$5 -> Q4FY26 | M16: =M$5 -> Q1FY27 | N16: =N$5 -> Q2FY27 | O16: =O$5 -> YoY Δ | P16: =P$5 -> QoQ Δ
B17: Customer Mix - Employment
B18: Self Employed | C18: % | D18: 0.5264 | E18: 0.5214 | F18: =E18-D18 -> -0.005 | H18: 0.58340871 | I18: 0.4693548 | J18: 0.50085476 | K18: 0.5545002 | L18: 0.5502 | M18: 0.5312 | N18: 0.5468 | O18: =N18-J18 -> 0.045945243 | P18: =N18-M18 -> 0.0156
B19: Salaried | C19: % | D19: 0.4736 | E19: 0.4786 | F19: =E19-D19 -> 0.005 | H19: 0.41659129 | I19: 0.5306452 | J19: 0.49914524 | K19: 0.4454998 | L19: 0.4498 | M19: 0.4688 | N19: 0.4532 | O19: =N19-J19 -> -0.045945243 | P19: =N19-M19 -> -0.0156
B20: Customer Mix - Age Bucket
B21: < 25 Years | C21: % | D21: 0.1544 | E21: 0.175 | F21: =E21-D21 -> 0.0206 | H21: 0.13848406 | I21: 0.16164194 | J21: 0.1934689 | K21: 0.20318656 | L21: 0.1359 | M21: 0.1503 | N21: 0.1707 | O21: =N21-J21 -> -0.022768898 | P21: =N21-M21 -> 0.0204
B22: 25 - 35 Years | C22: % | D22: 0.559 | E22: 0.5533 | F22: =E22-D22 -> -0.0057 | H22: 0.56025784 | I22: 0.56357193 | J22: 0.54403108 | K22: 0.5379443 | L22: 0.5712 | M22: 0.5651 | N22: 0.5471 | O22: =N22-J22 -> 0.0030689174 | P22: =N22-M22 -> -0.018
B23: > 35 Years | C23: % | D23: 0.2866 | E23: 0.2717 | F23: =E23-D23 -> -0.0149 | H23: 0.3012581 | I23: 0.27478613 | J23: 0.26250002 | K23: 0.25886915 | L23: 0.2928 | M23: 0.2847 | N23: 0.2822 | O23: =N23-J23 -> 0.01969998 | P23: =N23-M23 -> -0.0025
B24: Average Customer Age | C24: % | D24: 32.03 | E24: 31.76
B25: Customer Mix - City Tier
B26: Top 50 cities | C26: % | D26: 0.6497 | E26: 0.6277 | F26: =E26-D26 -> -0.022 | H26: 0.6401 | I26: 0.6355 | J26: 0.6332 | K26: 0.6338 | L26: 0.6115 | M26: 0.6014 | N26: 0.6042 | O26: =N26-J26 -> -0.029 | P26: =N26-M26 -> 0.0028
B27: Next 50 cities | C27: % | D27: 0.1673 | E27: 0.1804 | F27: =E27-D27 -> 0.0131 | H27: 0.1758 | I27: 0.1819 | J27: 0.1796 | K27: 0.1774 | L27: 0.1829 | M27: 0.1827 | N27: 0.1792 | O27: =N27-J27 -> -0.0004 | P27: =N27-M27 -> -0.0035
B28: Others | C28: % | D28: 0.183 | E28: 0.1919 | F28: =E28-D28 -> 0.0089 | H28: 0.1841 | I28: 0.1826 | J28: 0.1872 | K28: 0.1888 | L28: 0.2056 | M28: 0.2159 | N28: 0.2166 | O28: =N28-J28 -> 0.0294 | P28: =N28-M28 -> 0.0007
B29: Top cities refers to those cities with the highest loan counts among those served during the period
B30: Customer Mix - CIBIL Score Bucket
B31: < 700 | C31: % | D31: 0.0521 | E31: 0.0454 | F31: =E31-D31 -> -0.0067 | H31: 0.041779258 | I31: 0.048812452 | J31: 0.045636531 | K31: 0.047533489 | L31: 0.0399 | M31: 0.0398 | N31: 0.0423 | O31: =N31-J31 -> -0.0033365315 | P31: =N31-M31 -> 0.0025
B32: 700 - 760 | C32: % | D32: 0.7349 | E32: 0.7388 | F32: =E32-D32 -> 0.0039 | H32: 0.73762253 | I32: 0.73972254 | J32: 0.746011 | K32: 0.73678265 | L32: 0.7323 | M32: 0.7117 | N32: 0.7102 | O32: =N32-J32 -> -0.035811004 | P32: =N32-M32 -> -0.0015
B33: > 760 | C33: % | D33: 0.213 | E33: 0.2159 | F33: =E33-D33 -> 0.0029 | H33: 0.22059821 | I33: 0.21146501 | J33: 0.20835246 | K33: 0.21568387 | L33: 0.2277 | M33: 0.2484 | N33: 0.2475 | O33: =N33-J33 -> 0.039147535 | P33: =N33-M33 -> -0.0009
B34: All customer mix (%) mentioned above is based on the loan count during the period

Sheet P&L
B5: P&L | C5: Unit | D5: FY25 | E5: FY26 | F5: YoY Δ | H5: Q4FY25 | I5: Q1FY26 | J5: Q2FY26 | K5: Q3FY26 | L5: Q4FY26 | M5: Q1FY27 | N5: Q2FY27 | O5: YoY Δ | P5: QoQ Δ
B6: Revenue from operations | C6: ₹ in crs | D6: 1339.495 | E6: 2188.22 | F6: =E6/D6-1 -> 0.63361565 | H6: 371.223 | I6: 463.1 | J6: 512.164 | K6: 593.606 | L6: 619.35 | M6: 669.5 | N6: 731.81 | O6: =N6/J6-1 -> 0.42885872 | P6: =N6/M6-1 -> 0.093069455
B7: Other income | C7: ₹ in crs | D7: 13.193 | E7: 20.91 | F7: =E7/D7-1 -> 0.5849314 | H7: 2.024 | I7: 2.62 | J7: 5.299 | K7: 7.139 | L7: 5.852 | M7: 7.055 | N7: 8.48 | O7: =N7/J7-1 -> 0.60030194 | P7: =N7/M7-1 -> 0.20198441
B8: Total Income | C8: ₹ in crs | D8: =SUM(D6:D7) -> 1352.688 | E8: =SUM(E6:E7) -> 2209.13 | F8: =E8/D8-1 -> 0.63314083 | H8: =SUM(H6:H7) -> 373.247 | I8: =SUM(I6:I7) -> 465.72 | J8: =SUM(J6:J7) -> 517.463 | K8: =SUM(K6:K7) -> 600.745 | L8: =SUM(L6:L7) -> 625.202 | M8: =SUM(M6:M7) -> 676.555 | N8: =SUM(N6:N7) -> 740.29 | O8: =N8/J8-1 -> 0.43061436 | P8: =N8/M8-1 -> 0.094205201
B9: Finance costs | C9: ₹ in crs | D9: 164.402 | E9: 282.25 | F9: =E9/D9-1 -> 0.71682826 | H9: 52.273 | I9: 59.23 | J9: 71.501 | K9: 75.014 | L9: 76.505 | M9: 81.875 | N9: 72.38 | O9: =N9/J9-1 -> 0.012293534 | P9: =N9/M9-1 -> -0.11596947
B10: Net Total Income | C10: ₹ in crs | D10: =D8-D9 -> 1188.286 | E10: =E8-E9 -> 1926.88 | F10: =E10/D10-1 -> 0.62156249 | H10: =H8-H9 -> 320.974 | I10: =I8-I9 -> 406.49 | J10: =J8-J9 -> 445.962 | K10: =K8-K9 -> 525.731 | L10: =L8-L9 -> 548.697 | M10: =M8-M9 -> 594.68 | N10: =N8-N9 -> 667.91 | O10: =N10/J10-1 -> 0.49768366 | P10: =N10/M10-1 -> 0.12314186
B11: Operating expenses | C11: ₹ in crs | D11: 645.188 | E11: 1091.365 | F11: =E11/D11-1 -> 0.69154572 | H11: 175.32 | I11: 226.57 | J11: 240.602 | K11: 299.944 | L11: 324.249 | M11: 338.884 | N11: 380.6 | O11: =N11/J11-1 -> 0.58186549 | P11: =N11/M11-1 -> 0.12309817
B12: Pre-provisioning operating profit | C12: ₹ in crs | D12: =D10-D11 -> 543.098 | E12: =E10-E11 -> 835.515 | F12: =E12/D12-1 -> 0.538424 | H12: =H10-H11 -> 145.654 | I12: =I10-I11 -> 179.92 | J12: =J10-J11 -> 205.36 | K12: =K10-K11 -> 225.787 | L12: =L10-L11 -> 224.448 | M12: =M10-M11 -> 255.796 | N12: =N10-N11 -> 287.31 | O12: =N12/J12-1 -> 0.39905532 | P12: =N12/M12-1 -> 0.12319974
B13: Impairment cost | C13: ₹ in crs | D13: 326.834 | E13: 458.836 | F13: =E13/D13-1 -> 0.40388087 | H13: 75.525 | I13: 100.17 | J13: 122.36 | K13: 122.095 | L13: 114.211 | M13: 128.094 | N13: 133.06 | O13: =N13/J13-1 -> 0.087446878 | P13: =N13/M13-1 -> 0.038768404
B14: Profit before tax | C14: ₹ in crs | D14: =D12-D13 -> 216.264 | E14: =E12-E13 -> 376.679 | F14: =E14/D14-1 -> 0.74175545 | H14: =H12-H13 -> 70.129 | I14: =I12-I13 -> 79.75 | J14: =J12-J13 -> 83 | K14: =K12-K13 -> 103.692 | L14: =L12-L13 -> 110.237 | M14: =M12-M13 -> 127.702 | N14: =N12-N13 -> 154.25 | O14: =N14/J14-1 -> 0.85843373 | P14: =N14/M14-1 -> 0.20789024
B15: Tax expense | C15: ₹ in crs | D15: 55.643 | E15: 95.23 | F15: =E15/D15-1 -> 0.71144618 | H15: 15.964 | I15: 20.01 | J15: 20.556 | K15: 26.607 | L15: 28.057 | M15: 32.624 | N15: 29.13 | O15: =N15/J15-1 -> 0.4171045 | P15: =N15/M15-1 -> -0.10709907
B16: Profit after tax | C16: ₹ in crs | D16: =D14-D15 -> 160.621 | E16: =E14-E15 -> 281.449 | F16: =E16/D16-1 -> 0.75225531 | H16: =H14-H15 -> 54.165 | I16: =I14-I15 -> 59.74 | J16: =J14-J15 -> 62.444 | K16: =K14-K15 -> 77.085 | L16: =L14-L15 -> 82.18 | M16: =M14-M15 -> 95.078 | N16: =N14-N15 -> 125.12 | O16: =N16/J16-1 -> 1.0037153 | P16: =N16/M16-1 -> 0.31597215
B18: Earnings per Equity share (FV: ₹ 1)
B19: - Basic | C19: ₹ | D19: 33.092704 | E19: 46.800942 | F19: =E19/D19-1 -> 0.4142375 | H19: 10.66539 | I19: 11.139107 | J19: 11.576178 | K19: 14.250513 | L19: 10.373555 | M19: 6.4123939 | N19: 7.281023 | O19: =N19/J19-1 -> -0.37103396 | P19: =N19/M19-1 -> 0.13546098
B20: - Diluted | C20: ₹ | D20: 12.790442 | E20: 21.385684 | F20: =E20/D20-1 -> 0.67200508 | H20: 4.1729805 | I20: 4.5373542 | J20: 4.7285846 | K20: 5.8403957 | L20: 6.2201271 | M20: 5.8799211 | N20: 7.124129 | O20: =N20/J20-1 -> 0.50660918 | P20: =N20/M20-1 -> 0.21160282
B22: Operating Expenses / Total Income | C22: % | D22: =D11/D8 -> 0.47696734 | E22: =E11/E8 -> 0.4940248 | F22: =E22-D22 -> 0.017057455 | H22: =H11/H8 -> 0.46971576 | I22: =I11/I8 -> 0.48649403 | J22: =J11/J8 -> 0.46496464 | K22: =K11/K8 -> 0.49928672 | L22: =L11/L8 -> 0.51863078 | M22: =M11/M8 -> 0.50089645 | N22: =N11/N8 -> 0.51412284 | O22: =N22-J22 -> 0.049158199 | P22: =N22-M22 -> 0.01322639
B23: Cost to Income Ratio (Operating Expenses / Net Total Income) | C23: % | D23: =D11/D10 -> 0.54295683 | E23: =E11/E10 -> 0.56638971 | F23: =E23-D23 -> 0.023432877 | H23: =H11/H10 -> 0.54621247 | I23: =I11/I10 -> 0.55738149 | J23: =J11/J10 -> 0.53951234 | K23: =K11/K10 -> 0.57052751 | L23: =L11/L10 -> 0.59094364 | M23: =M11/M10 -> 0.56985942 | N23: =N11/N10 -> 0.56983725 | O23: =N23-J23 -> 0.030324918 | P23: =N23-M23 -> -2.216667e-05
B25: RoAA Tree - % OF AVERAGE AUM | C25: =C$5 -> Unit | D25: =D$5 -> FY25 | E25: =E$5 -> FY26 | F25: =F$5 -> YoY Δ | H25: =H$5 -> Q4FY25 | I25: =I$5 -> Q1FY26 | J25: =J$5 -> Q2FY26 | K25: =K$5 -> Q3FY26 | L25: =L$5 -> Q4FY26 | M25: =M$5 -> Q1FY27 | N25: =N$5 -> Q2FY27 | O25: =O$5 -> YoY Δ | P25: =P$5 -> QoQ Δ
B26: Revenue from operations | C26: % | D26: 0.40039229 | E26: =E6/AVERAGE('Operating metrics'!D$14:E$14) -> 0.39239754 | F26: =E26-D26 -> -0.0079947513 | H26: 0.40200296 | I26: =I6*4/AVERAGE('Operating metrics'!H$14:I$14) -> 0.40900057 | J26: =J6*4/AVERAGE('Operating metrics'!I$14:J$14) -> 0.39005982 | K26: =K6*4/AVERAGE('Operating metrics'!J$14:K$14) -> 0.41335559 | L26: =L6*4/AVERAGE('Operating metrics'!K$14:L$14) -> 0.38048895 | M26: =M6*4/AVERAGE('Operating metrics'!L$14:M$14) -> 0.35547448 | N26: =N6*4/AVERAGE('Operating metrics'!M$14:N$14) -> 0.33806697 | O26: =N26-J26 -> -0.051992849 | P26: =N26-M26 -> -0.017407514
B27: Other income | C27: % | D27: 0.0039435575 | E27: =E7/AVERAGE('Operating metrics'!D$14:E$14) -> 0.0037496379 | F27: =E27-D27 -> -0.0001939196 | H27: 0.00219182 | I27: =I7*4/AVERAGE('Operating metrics'!H$14:I$14) -> 0.0023139311 | J27: =J7*4/AVERAGE('Operating metrics'!I$14:J$14) -> 0.0040356741 | K27: =K7*4/AVERAGE('Operating metrics'!J$14:K$14) -> 0.0049712192 | L27: =L7*4/AVERAGE('Operating metrics'!K$14:L$14) -> 0.0035950938 | M27: =M7*4/AVERAGE('Operating metrics'!L$14:M$14) -> 0.0037458887 | N27: =N7*4/AVERAGE('Operating metrics'!M$14:N$14) -> 0.0039174211 | O27: =N27-J27 -> -0.00011825303 | P27: =N27-M27 -> 0.00017153236
B28: Total Income | C28: % | D28: =SUM(D26:D27) -> 0.40433585 | E28: =SUM(E26:E27) -> 0.39614718 | F28: =E28-D28 -> -0.0081886709 | H28: =SUM(H26:H27) -> 0.40419478 | I28: =SUM(I26:I27) -> 0.4113145 | J28: =SUM(J26:J27) -> 0.39409549 | K28: =SUM(K26:K27) -> 0.41832681 | L28: =SUM(L26:L27) -> 0.38408404 | M28: =SUM(M26:M27) -> 0.35922037 | N28: =SUM(N26:N27) -> 0.34198439 | O28: =N28-J28 -> -0.052111103 | P28: =N28-M28 -> -0.017235982
B29: Finance costs | C29: % | D29: 0.049141873 | E29: =E9/AVERAGE('Operating metrics'!D$14:E$14) -> 0.050613835 | F29: =E29-D29 -> 0.0014719616 | H29: 0.056607216 | I29: =I9*4/AVERAGE('Operating metrics'!H$14:I$14) -> 0.052310741 | J29: =J9*4/AVERAGE('Operating metrics'!I$14:J$14) -> 0.054454564 | K29: =K9*4/AVERAGE('Operating metrics'!J$14:K$14) -> 0.052235753 | L29: =L9*4/AVERAGE('Operating metrics'!K$14:L$14) -> 0.046999769 | M29: =M9*4/AVERAGE('Operating metrics'!L$14:M$14) -> 0.043471954 | N29: =N9*4/AVERAGE('Operating metrics'!M$14:N$14) -> 0.033436667 | O29: =N29-J29 -> -0.021017897 | P29: =N29-M29 -> -0.010035287
B30: Net Total Income | C30: % | D30: =D28-D29 -> 0.35519398 | E30: =E28-E29 -> 0.34553334 | F30: =E30-D30 -> -0.0096606325 | H30: =H28-H29 -> 0.34758756 | I30: =I28-I29 -> 0.35900376 | J30: =J28-J29 -> 0.33964093 | K30: =K28-K29 -> 0.36609106 | L30: =L28-L29 -> 0.33708427 | M30: =M28-M29 -> 0.31574842 | N30: =N28-N29 -> 0.30854772 | O30: =N30-J30 -> -0.031093206 | P30: =N30-M30 -> -0.0072006946
B31: Operating expenses | C31: % | D31: 0.192855 | E31: =E11/AVERAGE('Operating metrics'!D$14:E$14) -> 0.19570653 | F31: =E31-D31 -> 0.0028515341 | H31: 0.18985666 | I31: =I11*4/AVERAGE('Operating metrics'!H$14:I$14) -> 0.20010205 | J31: =J11*4/AVERAGE('Operating metrics'!I$14:J$14) -> 0.18324047 | K31: =K11*4/AVERAGE('Operating metrics'!J$14:K$14) -> 0.20886502 | L31: =L11*4/AVERAGE('Operating metrics'!K$14:L$14) -> 0.1991978 | M31: =M11*4/AVERAGE('Operating metrics'!L$14:M$14) -> 0.17993221 | N31: =N11*4/AVERAGE('Operating metrics'!M$14:N$14) -> 0.17582199 | O31: =N31-J31 -> -0.0074184835 | P31: =N31-M31 -> -0.0041102231
B32: Pre-provisioning operating profit (PPOP) | C32: % | D32: =D30-D31 -> 0.16233898 | E32: =E30-E31 -> 0.14982681 | F32: =E32-D32 -> -0.012512167 | H32: =H30-H31 -> 0.1577309 | I32: =I30-I31 -> 0.15890171 | J32: =J30-J31 -> 0.15640046 | K32: =K30-K31 -> 0.15722604 | L32: =L30-L31 -> 0.13788647 | M32: =M30-M31 -> 0.13581621 | N32: =N30-N31 -> 0.13272574 | O32: =N32-J32 -> -0.023674722 | P32: =N32-M32 -> -0.0030904715
B33: Impairment cost | C33: % | D33: 0.097694889 | E33: =E13/AVERAGE('Operating metrics'!D$14:E$14) -> 0.082279715 | F33: =E33-D33 -> -0.015415173 | H33: 0.081787156 | I33: =I13*4/AVERAGE('Operating metrics'!H$14:I$14) -> 0.088468122 | J33: =J13*4/AVERAGE('Operating metrics'!I$14:J$14) -> 0.093188353 | K33: =K13*4/AVERAGE('Operating metrics'!J$14:K$14) -> 0.085020453 | L33: =L13*4/AVERAGE('Operating metrics'!K$14:L$14) -> 0.070163919 | M33: =M13*4/AVERAGE('Operating metrics'!L$14:M$14) -> 0.068012171 | N33: =N13*4/AVERAGE('Operating metrics'!M$14:N$14) -> 0.061468402 | O33: =N33-J33 -> -0.031719951 | P33: =N33-M33 -> -0.0065437695
B34: Profit before tax (PBT) | C34: % | D34: =D32-D33 -> 0.064644093 | E34: =E32-E33 -> 0.067547099 | F34: =E34-D34 -> 0.0029030067 | H34: =H32-H33 -> 0.075943747 | I34: =I32-I33 -> 0.070433591 | J34: =J32-J33 -> 0.063212106 | K34: =K32-K33 -> 0.072205584 | L34: =L32-L33 -> 0.067722548 | M34: =M32-M33 -> 0.067804037 | N34: =N32-N33 -> 0.071257335 | O34: =N34-J34 -> 0.0080452288 | P34: =N34-M34 -> 0.003453298
B35: Tax expense | C35: % | D35: 0.016632409 | E35: =E15/AVERAGE('Operating metrics'!D$14:E$14) -> 0.017076902 | F35: =E35-D35 -> 0.00044449298 | H35: 0.017287655 | I35: =I15*4/AVERAGE('Operating metrics'!H$14:I$14) -> 0.017672428 | J35: =J15*4/AVERAGE('Operating metrics'!I$14:J$14) -> 0.015655278 | K35: =K15*4/AVERAGE('Operating metrics'!J$14:K$14) -> 0.018527697 | L35: =L15*4/AVERAGE('Operating metrics'!K$14:L$14) -> 0.017236423 | M35: =M15*4/AVERAGE('Operating metrics'!L$14:M$14) -> 0.017321881 | N35: =N15*4/AVERAGE('Operating metrics'!M$14:N$14) -> 0.013456896 | O35: =N35-J35 -> -0.002198382 | P35: =N35-M35 -> -0.0038649857
B36: Profit after tax (PAT) or Return on Avg. AUM (RoAA) % | C36: % | D36: =D34-D35 -> 0.048011684 | E36: =E34-E35 -> 0.050470198 | F36: =E36-D36 -> 0.0024585137 | H36: =H34-H35 -> 0.058656092 | I36: =I34-I35 -> 0.052761162 | J36: =J34-J35 -> 0.047556828 | K36: =K34-K35 -> 0.053677887 | L36: =L34-L35 -> 0.050486125 | M36: =M34-M35 -> 0.050482155 | N36: =N34-N35 -> 0.057800439 | O36: =N36-J36 -> 0.010243611 | P36: =N36-M36 -> 0.0073182837
B37: Return on Avg. Equity (RoAE) % | C37: % | D37: 0.17742658 | E37: =E16/AVERAGE(BS!D$21:E$21) -> 0.23965609 | F37: =E37-D37 -> 0.062229513 | H37: 0.22207485 | I37: =I16*4/AVERAGE(BS!H$21:I$21) -> 0.22881328 | J37: =J16*4/AVERAGE(BS!I$21:J$21) -> 0.22144342 | K37: =K16*4/AVERAGE(BS!J$21:K$21) -> 0.254036 | L37: =L16*4/AVERAGE(BS!K$21:L$21) -> 0.25314155 | M37: =M16*4/AVERAGE(BS!L$21:M$21) -> 0.21199947 | N37: =N16*4/AVERAGE(BS!M$21:N$21) -> 0.21653877 | O37: =N37-J37 -> -0.0049046497 | P37: =N37-M37 -> 0.0045393002
B39: Yield | C39: =C$5 -> Unit | D39: =D$5 -> FY25 | E39: =E$5 -> FY26 | F39: =F$5 -> YoY Δ | H39: =H$5 -> Q4FY25 | I39: =I$5 -> Q1FY26 | J39: =J$5 -> Q2FY26 | K39: =K$5 -> Q3FY26 | L39: =L$5 -> Q4FY26 | M39: =M$5 -> Q1FY27 | N39: =N$5 -> Q2FY27 | O39: =O$5 -> YoY Δ | P39: =P$5 -> QoQ Δ
B40: Portfolio Yield ^ | C40: % | D40: 0.32648853 | E40: 0.30904411 | F40: =E40-D40 -> -0.017444422 | H40: 0.30349267 | I40: 0.321793 | J40: 0.33549749 | K40: 0.31481975 | L40: 0.32615469 | M40: 0.32353953 | N40: 0.30186715 | O40: =N40-J40 -> -0.033630335 | P40: =N40-M40 -> -0.021672381
B41: Average Cost of Borrowings ^^ | C41: % | D41: 0.15073464 | E41: 0.1477977 | F41: =E41-D41 -> -0.0029369425 | H41: 0.15949695 | I41: 0.15676224 | J41: 0.14613539 | K41: 0.14512238 | L41: 0.14553231 | M41: 0.14454482 | N41: 0.13758277 | O41: =N41-J41 -> -0.0085526205 | P41: =N41-M41 -> -0.0069620497
B42: Spread | C42: % | D42: =D40-D41 -> 0.1757539 | E42: =E40-E41 -> 0.16124642 | F42: =E42-D42 -> -0.014507479 | H42: =H40-H41 -> 0.14399571 | I42: =I40-I41 -> 0.16503076 | J42: =J40-J41 -> 0.1893621 | K42: =K40-K41 -> 0.16969737 | L42: =L40-L41 -> 0.18062238 | M42: =M40-M41 -> 0.17899472 | N42: =N40-N41 -> 0.16428439 | O42: =N42-J42 -> -0.025077714 | P42: =N42-M42 -> -0.014710331
B43: ^Represents yield for on-book loans, incl co-lending share
B44: ^^ Based on daily average on-book debt balance
B45: Ratios for quarterly periods are annualized

Sheet BS
B5: Balance Sheet | C5: Unit | D5: FY25 | E5: FY26 | F5: YoY Δ | H5: Q4FY25 | I5: Q1FY26 | J5: Q2FY26 | K5: Q3FY26 | L5: Q4FY26 | M5: Q1FY27 | N5: Q2FY27 | O5: YoY Δ | P5: QoQ Δ
B6: ASSETS
B7: Cash & Cash equivalents | C7: ₹ in crs | D7: 132.72 | E7: 209.456 | F7: =IFERROR(E7/D7-1,100%) -> 0.57817963 | H7: 132.72 | I7: 204.82 | J7: 495.228 | K7: 189.45 | L7: 209.456 | M7: 655.823 | N7: 453.96 | O7: =N7/J7-1 -> -0.083331314 | P7: =N7/M7-1 -> -0.30780104
B8: Bank balances other than cash & cash equivalents | C8: ₹ in crs | D8: 11.77 | E8: 31.75 | F8: =IFERROR(E8/D8-1,100%) -> 1.6975361 | H8: 11.77 | I8: 6.73 | J8: 18.753 | K8: 55.39 | L8: 31.75 | M8: 7.58 | N8: 7.24 | O8: =N8/J8-1 -> -0.61392844 | P8: =N8/M8-1 -> -0.044854881
B9: Loans | C9: ₹ in crs | D9: 2157.74 | E9: 3189.34 | F9: =IFERROR(E9/D9-1,100%) -> 0.47809282 | H9: 2157.74 | I9: 2262.41 | J9: 2461.943 | K9: 2679.02 | L9: 3189.34 | M9: 3296.397 | N9: 3753.88 | O9: =N9/J9-1 -> 0.52476316 | P9: =N9/M9-1 -> 0.13878274
B10: Investments | C10: ₹ in crs | D10: 0 | E10: 8.045 | F10: =IFERROR(E10/D10-1,100%) -> 1 | H10: 0 | I10: 0 | J10: 0 | K10: 85.55 | L10: 8.045 | M10: 8.196 | N10: 0 | O10: na | P10: =N10/M10-1 -> -1
B11: Other Financial Assets | C11: ₹ in crs | D11: 216.74 | E11: 314.767 | F11: =IFERROR(E11/D11-1,100%) -> 0.45227923 | H11: 216.74 | I11: 340.076 | J11: 288.263 | K11: 319.43 | L11: 314.767 | M11: 411.313 | N11: 511.65 | O11: =N11/J11-1 -> 0.77494163 | P11: =N11/M11-1 -> 0.24394318
B12: Non-Financial Assets | C12: ₹ in crs | D12: 182.13 | E12: 235.21 | F12: =IFERROR(E12/D12-1,100%) -> 0.29144018 | H12: 182.13 | I12: 214.253 | J12: 208.4 | K12: 239.94 | L12: 235.21 | M12: 239 | N12: 238.61 | O12: =N12/J12-1 -> 0.14496161 | P12: =N12/M12-1 -> -0.0016317992
B13: Total Assets | C13: ₹ in crs | D13: =SUM(D7:D12) -> 2701.1 | E13: =SUM(E7:E12) -> 3988.568 | F13: =IFERROR(E13/D13-1,100%) -> 0.47664581 | H13: =SUM(H7:H12) -> 2701.1 | I13: =SUM(I7:I12) -> 3028.289 | J13: =SUM(J7:J12) -> 3472.587 | K13: =SUM(K7:K12) -> 3568.78 | L13: =SUM(L7:L12) -> 3988.568 | M13: =SUM(M7:M12) -> 4618.309 | N13: =SUM(N7:N12) -> 4965.34 | O13: =N13/J13-1 -> 0.4298677 | P13: =N13/M13-1 -> 0.075142438
B15: LIABILITIES & EQUITY
B16: Trade Payables | C16: ₹ in crs | D16: 52.2 | E16: 104.84 | F16: =IFERROR(E16/D16-1,100%) -> 1.0084291 | H16: 52.2 | I16: 65.7 | J16: 76.83 | K16: 75.51 | L16: 104.84 | M16: 130.201 | N16: 116.33 | O16: =N16/J16-1 -> 0.51412209 | P16: =N16/M16-1 -> -0.10653528
B17: Debt Securities | C17: ₹ in crs | D17: 513.413 | E17: 1303.835 | F17: =IFERROR(E17/D17-1,100%) -> 1.5395442 | H17: 513.413 | I17: 661.32 | J17: 1047.64 | K17: 1200.795 | L17: 1303.835 | M17: 1166.361 | N17: 1188.72 | O17: =N17/J17-1 -> 0.13466458 | P17: =N17/M17-1 -> 0.01916988
B18: Borrowings other than Debt Securities | C18: ₹ in crs | D18: 994.166 | E18: 1092.265 | F18: =IFERROR(E18/D18-1,100%) -> 0.098674668 | H18: 994.166 | I18: 1020.54 | J18: 987.35 | K18: 846.722 | L18: 1092.265 | M18: 876.842 | N18: 1038.26 | O18: =N18/J18-1 -> 0.051562263 | P18: =N18/M18-1 -> 0.18409018
B19: Other Financial Liabilities | C19: ₹ in crs | D19: 98.565 | E19: 104.636 | F19: =IFERROR(E19/D19-1,100%) -> 0.061593872 | H19: 98.565 | I19: 132.37 | J19: 160.75 | K19: 154.039 | L19: 104.636 | M19: 142.225 | N19: 167.29 | O19: =N19/J19-1 -> 0.040684292 | P19: =N19/M19-1 -> 0.17623484
B20: Non-Financial Liabilities | C20: ₹ in crs | D20: 36.763 | E20: 40.21 | F20: =IFERROR(E20/D20-1,100%) -> 0.093762751 | H20: 36.763 | I20: 65.66 | J20: 26.83 | K20: 37.373 | L20: 40.21 | M20: 57.608 | N20: 77.27 | O20: =N20/J20-1 -> 1.8799851 | P20: =N20/M20-1 -> 0.34130676
B21: Total Equity | C21: ₹ in crs | D21: 1005.99 | E21: 1342.784 | F21: =IFERROR(E21/D21-1,100%) -> 0.33478862 | H21: 1005.99 | I21: 1082.7 | J21: 1173.19 | K21: 1254.34 | L21: 1342.784 | M21: 2245.074 | N21: 2377.47 | O21: =N21/J21-1 -> 1.0265004 | P21: =N21/M21-1 -> 0.058971776
B22: Total Liabilities & Equity | C22: ₹ in crs | D22: =SUM(D16:D21) -> 2701.097 | E22: =SUM(E16:E21) -> 3988.57 | F22: =IFERROR(E22/D22-1,100%) -> 0.47664819 | H22: =SUM(H16:H21) -> 2701.097 | I22: =SUM(I16:I21) -> 3028.29 | J22: =SUM(J16:J21) -> 3472.59 | K22: =SUM(K16:K21) -> 3568.779 | L22: =SUM(L16:L21) -> 3988.57 | M22: =SUM(M16:M21) -> 4618.311 | N22: =SUM(N16:N21) -> 4965.34 | O22: =N22/J22-1 -> 0.42986647 | P22: =N22/M22-1 -> 0.075141973
B24: Debt-to-Equity (On-book) | C24: x | D24: =(D17+D18)/D21 -> 1.4986024 | E24: =(E17+E18)/E21 -> 1.784427 | F24: =IFERROR(E24/D24-1,100%) -> 0.19072745 | H24: =(H17+H18)/H21 -> 1.4986024 | I24: =(I17+I18)/I21 -> 1.5533943 | J24: =(J17+J18)/J21 -> 1.7345784 | K24: =(K17+K18)/K21 -> 1.6323461 | L24: =(L17+L18)/L21 -> 1.784427 | M24: =(M17+M18)/M21 -> 0.9100827 | N24: 0.93670162 | O24: =N24/J24-1 -> -0.45998311 | P24: =N24/M24-1 -> 0.029248906
B25: Leverage (AUM / Net Worth) | C25: x | D25: ='Operating metrics'!D14/BS!D21 -> 4.0623048 | E25: ='Operating metrics'!E14/BS!E21 -> 5.2625284 | F25: =IFERROR(E25/D25-1,100%) -> 0.29545387 | H25: ='Operating metrics'!H14/BS!H21 -> 4.0623048 | I25: ='Operating metrics'!I14/BS!I21 -> 4.5917983 | J25: ='Operating metrics'!J14/BS!J21 -> 4.716011 | K25: ='Operating metrics'!K14/BS!K21 -> 4.7481167 | L25: ='Operating metrics'!L14/BS!L21 -> 5.2625284 | M25: ='Operating metrics'!M14/BS!M21 -> 3.5636894 | N25: ='Operating metrics'!N14/BS!N21 -> 3.9187746 | O25: =N25/J25-1 -> -0.1690489 | P25: =N25/M25-1 -> 0.099639757
B26: Book Value per share (Basic) | C26: ₹ | D26: 187.57667 | E26: 113.05235 | F26: =IFERROR(E26/D26-1,100%) -> -0.3973006 | H26: 187.57667 | I26: 201.88 | J26: 216.89158 | K26: 231.84262 | L26: 113.05235 | M26: 133.25224 | N26: 133.48017 | O26: =N26/J26-1 -> -0.38457655 | P26: =N26/M26-1 -> 0.0017104932
B27: Book Value per share (Diluted) | C27: ₹ | D27: 75.709399 | E27: 101.56112 | F27: =IFERROR(E27/D27-1,100%) -> 0.34145981 | H27: 75.709399 | I27: 82.043862 | J27: 88.720098 | K27: 95.024848 | L27: 101.56112 | M27: 123.41659 | N27: 130.70304 | O27: =N27/J27-1 -> 0.47320662 | P27: =N27/M27-1 -> 0.059039459

Sheet Capital & Liability
B5: On-book Borrowings | C5: Unit | D5: FY25 | E5: FY26 | F5: YoY Δ | H5: Q4FY25 | I5: Q1FY26 | J5: Q2FY26 | K5: Q3FY26 | L5: Q4FY26 | M5: Q1FY27 | N5: Q2FY27 | O5: YoY Δ | P5: QoQ Δ
B6: NCD | C6: ₹ in crs | D6: 513.41488 | E6: 1289.3253 | F6: =IFERROR(E6/D6-1,100%) -> 1.5112738 | H6: 513.41488 | I6: 564.37 | J6: 989.074 | K6: 1126.614 | L6: 1289.3253 | M6: 1151.47 | N6: 1188.71 | O6: =N6/J6-1 -> 0.20184132 | P6: =N6/M6-1 -> 0.032341268
B7: TL | C7: ₹ in crs | D7: 654.58081 | E7: 879.19547 | F7: =IFERROR(E7/D7-1,100%) -> 0.34314277 | H7: 654.58081 | I7: 635.72 | J7: 594.606 | K7: 568.254 | L7: 879.19547 | M7: 739.17 | N7: 947.79 | O7: =N7/J7-1 -> 0.59397988 | P7: =N7/M7-1 -> 0.28223548
B8: PTC | C8: ₹ in crs | D8: 300.24352 | E8: 197.93388 | F8: =IFERROR(E8/D8-1,100%) -> -0.34075553 | H8: 300.24352 | I8: 369.82 | J8: 362.499 | K8: 248.382 | L8: 197.93388 | M8: 122.55 | N8: 60.23 | O8: =N8/J8-1 -> -0.83384782 | P8: =N8/M8-1 -> -0.50852713
B9: WCDL | C9: ₹ in crs | D9: 30.449178 | E9: 15.140137 | F9: =IFERROR(E9/D9-1,100%) -> -0.50277354 | H9: 30.449178 | I9: 15 | J9: 30.253 | K9: 30.086 | L9: 15.140137 | M9: 15.13 | N9: 30 | O9: =N9/J9-1 -> -0.008362807 | P9: =N9/M9-1 -> 0.9828156
B10: CP | C10: ₹ in crs | D10: 0 | E10: 14.508228 | F10: =IFERROR(E10/D10-1,100%) -> 1 | H10: 0 | I10: 96.95 | J10: 58.56 | K10: 74.181 | L10: 14.508228 | M10: 14.89 | N10: 0 | O10: =N10/J10-1 -> -1 | P10: =N10/M10-1 -> -1
B11: Bank OD | C11: ₹ in crs | D11: 8.8929313 | E11: 0 | F11: =IFERROR(E11/D11-1,100%) -> -1 | H11: 8.8929313 | I11: 0 | J11: 0 | K11: 0 | L11: 0 | M11: 0 | N11: 0 | O11: na | P11: na
B12: Total | C12: ₹ in crs | D12: =SUM(D6:D11) -> 1507.5813 | E12: =SUM(E6:E11) -> 2396.1031 | F12: =IFERROR(E12/D12-1,100%) -> 0.58936903 | H12: =SUM(H6:H11) -> 1507.5813 | I12: =SUM(I6:I11) -> 1681.86 | J12: =SUM(J6:J11) -> 2034.992 | K12: =SUM(K6:K11) -> 2047.517 | L12: =SUM(L6:L11) -> 2396.1031 | M12: =SUM(M6:M11) -> 2043.21 | N12: =SUM(N6:N11) -> 2226.73 | O12: =M12/I12-1 -> 0.21485141 | P12: =M12/L12-1 -> -0.14727791
B14: Mix
B15: =B6 -> NCD | C15: % | D15: =D6/D$12 -> 0.34055535 | E15: =E6/E$12 -> 0.53809261 | F15: =E15-D15 -> 0.19753726 | H15: =H6/H$12 -> 0.34055535 | I15: =I6/I$12 -> 0.33556301 | J15: =J6/J$12 -> 0.48603336 | K15: =K6/K$12 -> 0.55023426 | L15: =L6/L$12 -> 0.53809261 | M15: =M6/M$12 -> 0.5635593 | N15: =N6/N$12 -> 0.53383661 | O15: =N15-J15 -> 0.047803252 | P15: =N15-M15 -> -0.029722689
B16: =B7 -> TL | C16: % | D16: =D7/D$12 -> 0.4341927 | E16: =E7/E$12 -> 0.36692724 | F16: =E16-D16 -> -0.067265465 | H16: =H7/H$12 -> 0.4341927 | I16: =I7/I$12 -> 0.37798628 | J16: =J7/J$12 -> 0.29219083 | K16: =K7/K$12 -> 0.27753323 | L16: =L7/L$12 -> 0.36692724 | M16: =M7/M$12 -> 0.36176898 | N16: =N7/N$12 -> 0.42564209 | O16: =N16-J16 -> 0.13345126 | P16: =N16-M16 -> 0.063873104
B17: =B8 -> PTC | C17: % | D17: =D8/D$12 -> 0.19915577 | E17: =E8/E$12 -> 0.082606579 | F17: =E17-D17 -> -0.11654919 | H17: =H8/H$12 -> 0.19915577 | I17: =I8/I$12 -> 0.21988751 | J17: =J8/J$12 -> 0.17813289 | K17: =K8/K$12 -> 0.12130888 | L17: =L8/L$12 -> 0.082606579 | M17: =M8/M$12 -> 0.05997915 | N17: =N8/N$12 -> 0.027048632 | O17: =N17-J17 -> -0.15108426 | P17: =N17-M17 -> -0.032930519
B18: =B9 -> WCDL | C18: % | D18: =D9/D$12 -> 0.02019737 | E18: =E9/E$12 -> 0.0063186502 | F18: =E18-D18 -> -0.01387872 | H18: =H9/H$12 -> 0.02019737 | I18: =I9/I$12 -> 0.0089186972 | J18: =J9/J$12 -> 0.014866398 | K18: =K9/K$12 -> 0.014693895 | L18: =L9/L$12 -> 0.0063186502 | M18: =M9/M$12 -> 0.0074050147 | N18: =N9/N$12 -> 0.013472671 | O18: =N18-J18 -> -0.0013937268 | P18: =N18-M18 -> 0.006067656
B19: =B10 -> CP | C19: % | D19: =D10/D$12 -> 0 | E19: =E10/E$12 -> 0.0060549265 | F19: =E19-D19 -> 0.0060549265 | H19: =H10/H$12 -> 0 | I19: =I10/I$12 -> 0.057644513 | J19: =J10/J$12 -> 0.028776526 | K19: =K10/K$12 -> 0.036229736 | L19: =L10/L$12 -> 0.0060549265 | M19: =M10/M$12 -> 0.0072875524 | N19: =N10/N$12 -> 0 | O19: =N19-J19 -> -0.028776526 | P19: =N19-M19 -> -0.0072875524
B20: =B11 -> Bank OD | C20: % | D20: =D11/D$12 -> 0.0058988071 | E20: =E11/E$12 -> 0 | F20: =E20-D20 -> -0.0058988071 | H20: =H11/H$12 -> 0.0058988071 | I20: =I11/I$12 -> 0 | J20: =J11/J$12 -> 0 | K20: =K11/K$12 -> 0 | L20: =L11/L$12 -> 0 | M20: =M11/M$12 -> 0 | N20: =N11/N$12 -> 0 | O20: na | P20: na
B22: Capital Adequacy * | C22: =C$5 -> Unit | D22: =D$5 -> FY25 | E22: =E$5 -> FY26 | F22: =F$5 -> YoY Δ | H22: =H$5 -> Q4FY25 | I22: =I$5 -> Q1FY26 | J22: =J$5 -> Q2FY26 | K22: =K$5 -> Q3FY26 | L22: =L$5 -> Q4FY26 | M22: =M$5 -> Q1FY27 | N22: =N$5 -> Q2FY27 | O22: =O$5 -> YoY Δ | P22: =P$5 -> QoQ Δ
B23: CRAR (Total Capital / Total Risk Weighted Assets) | C23: % | D23: =SUM(D24:D25) -> 0.2518 | E23: =SUM(E24:E25) -> 0.2528 | F23: =E23-D23 -> 0.001 | H23: =SUM(H24:H25) -> 0.2518 | I23: =SUM(I24:I25) -> 0.2541 | J23: =SUM(J24:J25) -> 0.3022585 | K23: =SUM(K24:K25) -> 0.26682973 | L23: =SUM(L24:L25) -> 0.2528 | M23: =SUM(M24:M25) -> 0.4019209 | N23: =SUM(N24:N25) -> 0.3476 | O23: =N23-J23 -> 0.0453415 | P23: =N23-M23 -> -0.054320903
B24: CRAR - Tier I Capital | C24: % | D24: 0.2518 | E24: 0.244 | F24: =E24-D24 -> -0.0078 | H24: 0.2518 | I24: 0.2468 | J24: 0.29550523 | K24: 0.25927326 | L24: 0.244 | M24: 0.39221319 | N24: 0.3365 | O24: =N24-J24 -> 0.040994773 | P24: =N24-M24 -> -0.05571319
B25: CRAR - Tier II Capital | C25: % | D25: 0 | E25: 0.0088 | F25: =E25-D25 -> 0.0088 | H25: 0 | I25: 0.0073 | J25: 0.0067532731 | K25: 0.0075564682 | L25: 0.0088 | M25: 0.0097077127 | N25: 0.0111 | O25: =N25-J25 -> 0.0043467269 | P25: =N25-M25 -> 0.0013922873
B26: * CRAR ratio is for subsidiary
B28: Credit Rating (Long Term) | C28: =C$5 -> Unit | D28: =D$5 -> FY25 | E28: =E$5 -> FY26 | F28: =F$5 -> YoY Δ | H28: =H$5 -> Q4FY25 | I28: =I$5 -> Q1FY26 | J28: =J$5 -> Q2FY26 | K28: =K$5 -> Q3FY26 | L28: =L$5 -> Q4FY26 | M28: =M$5 -> Q1FY27 | N28: =N$5 -> Q2FY27 | O28: =O$5 -> YoY Δ | P28: =P$5 -> QoQ Δ
B29: CRISIL Ratings Limited | D29: BBB+/Stable | E29: A-/Stable | H29: BBB+/Stable | I29: BBB+/Stable | J29: BBB+/Stable | K29: BBB+/Stable | L29: A-/Stable | M29: A-/Stable | N29: A-/Stable
B30: India Ratings and Research Private Limited | E30: A-/Stable | K30: A-/Stable | L30: A-/Stable | M30: A-/Stable | N30: A-/Stable
B31: Acuité Ratings & Research Limited | D31: A-/Stable | E31: A-/Stable | H31: A-/Stable | I31: A-/Stable | J31: A-/Stable | K31: A-/Stable | L31: A-/Stable | M31: A-/Stable | N31: A/Stable
B33: Off-book Arrangements | C33: =C$5 -> Unit | D33: =D$5 -> FY25 | E33: =E$5 -> FY26 | F33: =F$5 -> YoY Δ | H33: =H$5 -> Q4FY25 | I33: =I$5 -> Q1FY26 | J33: =J$5 -> Q2FY26 | K33: =K$5 -> Q3FY26 | L33: =L$5 -> Q4FY26 | M33: =M$5 -> Q1FY27 | N33: =N$5 -> Q2FY27 | O33: =O$5 -> YoY Δ | P33: =P$5 -> QoQ Δ
B34: 100-0 arrangement | C34: ₹ in crs | D34: 1018.0037 | E34: 2266.39 | F34: =IFERROR(E34/D34-1,100%) -> 1.2263082 | H34: 1018.0037 | I34: 1552.03 | J34: 1828.889 | K34: 1916.193 | L34: 2266.39 | M34: 2337.23 | N34: 2851.44 | O34: =N34/J34-1 -> 0.55911048 | P34: =N34/M34-1 -> 0.2200083
B35: Co-lending | C35: ₹ in crs | D35: 583.75652 | E35: 1221.83 | F35: =IFERROR(E35/D35-1,100%) -> 1.0930473 | H35: 583.75652 | I35: 765.76 | J35: 832.56 | K35: 950.81 | L35: 1221.83 | M35: 1786.82 | N35: 2033.97 | O35: =N35/J35-1 -> 1.4430311 | P35: =N35/M35-1 -> 0.13831835
B36: Direct Assignment (DA) | C36: ₹ in crs | D36: 10.319302 | E36: 21.9632 | F36: =IFERROR(E36/D36-1,100%) -> 1.128361 | H36: 10.319302 | I36: 43.3 | J36: 55.329 | K36: 43.617 | L36: 21.9632 | M36: 160.39 | N36: 232.65 | O36: =N36/J36-1 -> 3.2048474 | P36: =N36/M36-1 -> 0.45052684
B37: Total | C37: ₹ in crs | D37: =SUM(D34:D36) -> 1612.0795 | E37: =SUM(E34:E36) -> 3510.1832 | F37: =IFERROR(E37/D37-1,100%) -> 1.1774256 | H37: =SUM(H34:H36) -> 1612.0795 | I37: =SUM(I34:I36) -> 2361.09 | J37: =SUM(J34:J36) -> 2716.778 | K37: =SUM(K34:K36) -> 2910.62 | L37: =SUM(L34:L36) -> 3510.1832 | M37: =SUM(M34:M36) -> 4284.44 | N37: =SUM(N34:N36) -> 5118.06 | O37: =N37/J37-1 -> 0.88387126 | P37: =N37/M37-1 -> 0.19456919

Sheet AUM Profile & Asset Quality
B5: AUM Mix | C5: Unit | D5: FY25 | E5: FY26 | F5: YoY Δ | H5: Q4FY25 | I5: Q1FY26 | J5: Q2FY26 | K5: Q3FY26 | L5: Q4FY26 | M5: Q1FY27 | N5: Q2FY27 | O5: YoY Δ | P5: QoQ Δ
B6: Secured vs. Unsecured
B7: PL | C7: ₹ in crs | D7: 4011.124 | E7: 6548.3548 | F7: =E7/D7-1 -> 0.63254858 | H7: 4011.124 | I7: 4845.99 | J7: 5306.359 | K7: 5612.285 | L7: 6548.3548 | M7: 7383.8465 | N7: 8579.619 | O7: =N7/J7-1 -> 0.61685612 | P7: =N7/M7-1 -> 0.16194439
B8: LAP | C8: ₹ in crs | D8: 75.514 | E8: 518.0842 | F8: =E8/D8-1 -> 5.8607702 | H8: 75.514 | I8: 125.55 | J8: 226.418 | K8: 343.468 | L8: 518.0842 | M8: 616.9 | N8: 737.15 | O8: =N8/J8-1 -> 2.2557041 | P8: =N8/M8-1 -> 0.19492624
B9: PL % | C9: % | D9: =D7/SUM(D$7:D$8) -> 0.98152173 | E9: =E7/SUM(E$7:E$8) -> 0.92668384 | F9: =E9-D9 -> -0.054837894 | H9: =H7/SUM(H$7:H$8) -> 0.98152173 | I9: =I7/SUM(I$7:I$8) -> 0.97474626 | J9: =J7/SUM(J$7:J$8) -> 0.95907697 | K9: =K7/SUM(K$7:K$8) -> 0.94233005 | L9: =L7/SUM(L$7:L$8) -> 0.92668384 | M9: =M7/SUM(M$7:M$8) -> 0.92289469 | N9: =N7/SUM(N$7:N$8) -> 0.92087922 | O9: =N9-J9 -> -0.038197747 | P9: =N9-M9 -> -0.0020154715
B10: LAP % | C10: % | D10: =D8/SUM(D$7:D$8) -> 0.01847827 | E10: =E8/SUM(E$7:E$8) -> 0.073316164 | F10: =E10-D10 -> 0.054837894 | H10: =H8/SUM(H$7:H$8) -> 0.01847827 | I10: =I8/SUM(I$7:I$8) -> 0.025253744 | J10: =J8/SUM(J$7:J$8) -> 0.04092303 | K10: =K8/SUM(K$7:K$8) -> 0.057669954 | L10: =L8/SUM(L$7:L$8) -> 0.073316164 | M10: =M8/SUM(M$7:M$8) -> 0.077105305 | N10: =N8/SUM(N$7:N$8) -> 0.079120777 | O10: =N10-J10 -> 0.038197747 | P10: =N10-M10 -> 0.0020154715
B11: On-Book vs. Off-Book
B12: On-Book | C12: ₹ in crs | D12: 2474.558 | E12: 3556.26 | F12: =E12/D12-1 -> 0.43712938 | H12: 2474.558 | I12: 2610.45 | J12: 2815.999 | K12: 3045.1327 | L12: 3556.26 | M12: 3716.2979 | N12: 4198.707 | O12: =N12/J12-1 -> 0.49101864 | P12: =N12/M12-1 -> 0.12980904
B13: Off-Book | C13: ₹ in crs | D13: 1612.08 | E13: 3510.179 | F13: =E13/D13-1 -> 1.1774223 | H13: 1612.08 | I13: 2361.09 | J13: 2716.778 | K13: 2910.62 | L13: 3510.179 | M13: 4284.4485 | N13: 5118.062 | O13: =N13/J13-1 -> 0.883872 | P13: =N13/M13-1 -> 0.19456727
B14: On-Book % | C14: % | D14: =D12/SUM(D$12:D$13) -> 0.60552415 | E14: =E12/SUM(E$12:E$13) -> 0.50326055 | F14: =E14-D14 -> -0.1022636 | H14: =H12/SUM(H$12:H$13) -> 0.60552415 | I14: =I12/SUM(I$12:I$13) -> 0.52507875 | J14: =J12/SUM(J$12:J$13) -> 0.50896665 | K14: =K12/SUM(K$12:K$13) -> 0.51129267 | L14: =L12/SUM(L$12:L$13) -> 0.50326055 | M14: =M12/SUM(M$12:M$13) -> 0.4644939 | N14: =N12/SUM(N$12:N$13) -> 0.45066128 | O14: =N14-J14 -> -0.058305379 | P14: =N14-M14 -> -0.013832625
B15: Off-Book % | C15: % | D15: =D13/SUM(D$12:D$13) -> 0.39447585 | E15: =E13/SUM(E$12:E$13) -> 0.49673945 | F15: =E15-D15 -> 0.1022636 | H15: =H13/SUM(H$12:H$13) -> 0.39447585 | I15: =I13/SUM(I$12:I$13) -> 0.47492125 | J15: =J13/SUM(J$12:J$13) -> 0.49103335 | K15: =K13/SUM(K$12:K$13) -> 0.48870733 | L15: =L13/SUM(L$12:L$13) -> 0.49673945 | M15: =M13/SUM(M$12:M$13) -> 0.5355061 | N15: =N13/SUM(N$12:N$13) -> 0.54933872 | O15: =N15-J15 -> 0.058305379 | P15: =N15-M15 -> 0.013832625
B16: New vs. Repeat
B17: New customers | C17: ₹ in crs | D17: 1091.057 | E17: 3569.07 | F17: =E17/D17-1 -> 2.271204 | H17: 1091.057 | I17: 1721.8633 | J17: 2367.35 | K17: 2940.737 | L17: 3569.07 | M17: 3888.75 | N17: 4403.149 | O17: =N17/J17-1 -> 0.85994847 | P17: =N17/M17-1 -> 0.13227875
B18: Repeat customers | C18: ₹ in crs | D18: 2995.581 | E18: 3497.37 | F18: =E18/D18-1 -> 0.16750974 | H18: 2995.581 | I18: 3249.6767 | J18: 3165.427 | K18: 3015.016 | L18: 3497.37 | M18: 4111.9965 | N18: 4913.62 | O18: =N18/J18-1 -> 0.55227715 | P18: =N18/M18-1 -> 0.19494752
B19: Repeat customer AUM % | C19: % | D19: =D18/SUM(D17:D18) -> 0.73301844 | E19: =E18/SUM(E17:E18) -> 0.49492672 | F19: =E19-D19 -> -0.23809171 | H19: =H18/SUM(H17:H18) -> 0.73301844 | I19: =I18/SUM(I17:I18) -> 0.65365595 | J19: =J18/SUM(J17:J18) -> 0.57212264 | K19: =K18/SUM(K17:K18) -> 0.5062359 | L19: =L18/SUM(L17:L18) -> 0.49492672 | M19: =M18/SUM(M17:M18) -> 0.5139516 | N19: =N18/SUM(N17:N18) -> 0.52739528 | O19: =N19-J19 -> -0.044727362 | P19: =N19-M19 -> 0.013443677
B20: AUM by region
B21: South(1) | C21: ₹ in crs | D21: 1344.88 | E21: 2529.97 | F21: =E21/D21-1 -> 0.88118643 | H21: 1344.88 | I21: 1698.3894 | J21: 1916.5108 | K21: 2084.3 | L21: 2529.97 | M21: 2843.71 | N21: 3344.2242 | O21: =N21/J21-1 -> 0.74495448 | P21: =N21/M21-1 -> 0.17600746
B22: West(2) | C22: ₹ in crs | D22: 1188.16 | E22: 1816.9918 | F22: =E22/D22-1 -> 0.52924845 | H22: 1188.16 | I22: 1398.6103 | J22: 1515.3732 | K22: 1576.76 | L22: 1816.9918 | M22: 2068.08 | N22: 2427.26 | O22: =N22/J22-1 -> 0.60175724 | P22: =N22/M22-1 -> 0.173678
B23: North(3) | C23: ₹ in crs | D23: 785.01 | E23: 1530.09 | F23: =E23/D23-1 -> 0.94913441 | H23: 785.01 | I23: 961.73487 | J23: 1091.7416 | K23: 1193.27 | L23: 1530.09 | M23: 1626.06 | N23: 1865.45 | O23: =N23/J23-1 -> 0.70869191 | P23: =N23/M23-1 -> 0.14722089
B24: East(4) | C24: ₹ in crs | D24: 548.55 | E24: 955.73046 | F24: =E24/D24-1 -> 0.74228504 | H24: 548.55 | I24: 655.60967 | J24: 720.033 | K24: 786.81 | L24: 955.73046 | M24: =1078.81 -> 1078.81 | N24: 1248.27 | O24: =N24/J24-1 -> 0.73362888 | P24: =N24/M24-1 -> 0.15708049
B25: Central (5) | C25: ₹ in crs | D25: 220.04 | E25: 233.65345 | F25: =E25/D25-1 -> 0.061868077 | H25: 220.04 | I25: 257.19893 | J25: 289.11842 | K25: 314.61 | L25: 233.65345 | M25: 383.96 | N25: 431.43 | O25: =N25/J25-1 -> 0.49222594 | P25: =N25/M25-1 -> 0.12363267
B26: =B21&" %" -> South(1) % | C26: % | D26: =D21/SUM(D$21:D$25) -> 0.32909187 | E26: =E21/SUM(E$21:E$25) -> 0.35802632 | F26: =E26-D26 -> 0.028934452 | H26: =H21/SUM(H$21:H$25) -> 0.32909187 | I26: =I21/SUM(I$21:I$25) -> 0.34162218 | J26: =J21/SUM(J$21:J$25) -> 0.34639221 | K26: =K21/SUM(K$21:K$25) -> 0.34996432 | L26: =L21/SUM(L$21:L$25) -> 0.35802632 | M26: =M21/SUM(M$21:M$25) -> 0.3554362 | N26: =N21/SUM(N$21:N$25) -> 0.35895197 | O26: =N26-J26 -> 0.012559763 | P26: =N26-M26 -> 0.0035157649
B27: =B22&" %" -> West(2) % | C27: % | D27: =D22/SUM(D$21:D$25) -> 0.29074252 | E27: =E22/SUM(E$21:E$25) -> 0.25712989 | F27: =E27-D27 -> -0.033612629 | H27: =H22/SUM(H$21:H$25) -> 0.29074252 | I27: =I22/SUM(I$21:I$25) -> 0.28132316 | J27: =J22/SUM(J$21:J$25) -> 0.27389016 | K27: =K22/SUM(K$21:K$25) -> 0.26474583 | L27: =L22/SUM(L$21:L$25) -> 0.25712989 | M27: =M22/SUM(M$21:M$25) -> 0.25848997 | N27: =N22/SUM(N$21:N$25) -> 0.26052971 | O27: =N27-J27 -> -0.013360453 | P27: =N27-M27 -> 0.0020397429
B28: =B23&" %" -> North(3) % | C28: % | D28: =D23/SUM(D$21:D$25) -> 0.19209179 | E28: =E23/SUM(E$21:E$25) -> 0.21652925 | F28: =E28-D28 -> 0.024437454 | H28: =H23/SUM(H$21:H$25) -> 0.19209179 | I28: =I23/SUM(I$21:I$25) -> 0.19344796 | J28: =J23/SUM(J$21:J$25) -> 0.19732253 | K28: =K23/SUM(K$21:K$25) -> 0.20035596 | L28: =L23/SUM(L$21:L$25) -> 0.21652925 | M28: =M23/SUM(M$21:M$25) -> 0.20324175 | N28: =N23/SUM(N$21:N$25) -> 0.20022789 | O28: =N28-J28 -> 0.0029053568 | P28: =N28-M28 -> -0.0030138591
B29: =B24&" %" -> East(4) % | C29: % | D29: =D24/SUM(D$21:D$25) -> 0.13423008 | E29: =E24/SUM(E$21:E$25) -> 0.1352493 | F29: =E29-D29 -> 0.0010192192 | H29: =H24/SUM(H$21:H$25) -> 0.13423008 | I29: =I24/SUM(I$21:I$25) -> 0.13187247 | J29: =J24/SUM(J$21:J$25) -> 0.13013953 | K29: =K24/SUM(K$21:K$25) -> 0.13210931 | L29: =L24/SUM(L$21:L$25) -> 0.1352493 | M29: =M24/SUM(M$21:M$25) -> 0.1348408 | N29: =N24/SUM(N$21:N$25) -> 0.13398294 | O29: =N29-J29 -> 0.0038434067 | P29: =N29-M29 -> -0.00085786394
B30: =B25&" %" -> Central (5) % | C30: % | D30: =D25/SUM(D$21:D$25) -> 0.053843744 | E30: =E25/SUM(E$21:E$25) -> 0.033065248 | F30: =E30-D30 -> -0.020778496 | H30: =H25/SUM(H$21:H$25) -> 0.053843744 | I30: =I25/SUM(I$21:I$25) -> 0.051734225 | J30: =J25/SUM(J$21:J$25) -> 0.05225557 | K30: =K25/SUM(K$21:K$25) -> 0.052824581 | L30: =L25/SUM(L$21:L$25) -> 0.033065248 | M30: =M25/SUM(M$21:M$25) -> 0.047991281 | N30: =N25/SUM(N$21:N$25) -> 0.046307496 | O30: =N30-J30 -> -0.0059480735 | P30: =N30-M30 -> -0.0016837847
B31: (1)Includes the states of Karnataka, Kerala, Andhra Pradesh, Tamil Nadu, Telangana, Pondicherry, Andaman & Nicobar and Lakshadweep.
B32: (2)Includes the states of Maharashtra, Gujarat, Rajasthan, Goa, Daman & Diu, Dadra and Nagar.
B33: (3) Includes the states of Delhi, Haryana, Chandigarh, Himachal Pradesh, Jammu & Kashmir, Punjab, Uttar Pradesh, Uttarakhand and Uttaranchal.
B34: (4)Includes the states of Arunachal Pradesh, Assam, Bihar, Jharkhand, Manipur, Meghalaya, Mizoram, Nagaland, Odisha, Sikkim, Tripura and West Bengal.
B35: (5)Includes the states of Madhya Pradesh & Chhattisgarh.
B38: Asset Quality (On-Book) | C38: =C$5 -> Unit | D38: =D$5 -> FY25 | E38: =E$5 -> FY26 | F38: =F$5 -> YoY Δ | H38: =H$5 -> Q4FY25 | I38: =I$5 -> Q1FY26 | J38: =J$5 -> Q2FY26 | K38: =K$5 -> Q3FY26 | L38: =L$5 -> Q4FY26 | M38: =M$5 -> Q1FY27 | N38: =N$5 -> Q2FY27 | O38: =O$5 -> YoY Δ | P38: =P$5 -> QoQ Δ
B39: Gross Stage 1 Loans | C39: ₹ in crs | D39: 2315.697 | E39: 3397.25 | F39: =E39/D39-1 -> 0.4670529 | H39: 2315.697 | I39: 2413.673 | J39: 2617.929 | K39: 2838.114 | L39: 3397.25 | M39: 3515.7582 | N39: 4007.76 | O39: =N39/J39-1 -> 0.53088949 | P39: =N39/M39-1 -> 0.13994189
B40: Gross Stage 2 Loans | C40: ₹ in crs | D40: 87.237 | E40: 83.62 | F40: =E40/D40-1 -> -0.041461765 | H40: 87.237 | I40: 101.728 | J40: 115.707 | K40: 118.653 | L40: 83.62 | M40: 116.98023 | N40: 99.52 | O40: =N40/J40-1 -> -0.13989646 | P40: =N40/M40-1 -> -0.14925796
B41: Gross Stage 3 Loans (GNPA) | C41: ₹ in crs | D41: 71.625 | E41: 75.39 | F41: =E41/D41-1 -> 0.052565445 | H41: 71.625 | I41: 95.049 | J41: 82.363 | K41: 88.366 | L41: 75.39 | M41: 83.559552 | N41: 91.42 | O41: =N41/J41-1 -> 0.10996443 | P41: =N41/M41-1 -> 0.094070014
B43: ECL - Stage 1 | C43: ₹ in crs | D43: 64.69 | E43: 102.8 | F43: =E43/D43-1 -> 0.58911733 | H43: 64.69 | I43: 79.2968 | J43: 89.387 | K43: 79.229 | L43: 102.8 | M43: 119.55315 | N43: 154.35 | O43: =N43/J43-1 -> 0.72676116 | P43: =N43/M43-1 -> 0.29105756
B44: ECL - Stage 2 | C44: ₹ in crs | D44: 51.615 | E44: 63.2 | F44: =E44/D44-1 -> 0.22445026 | H44: 51.615 | I44: 60.1554 | J44: 68.939 | K44: 74.163 | L44: 63.2 | M44: 94.095395 | N44: 77.24 | O44: =N44/J44-1 -> 0.1204108 | P44: =N44/M44-1 -> -0.17913092
B45: ECL - Stage 3 | C45: ₹ in crs | D45: 65.52 | E45: 64.95 | F45: =E45/D45-1 -> -0.0086996337 | H45: 65.52 | I45: 86.17 | J45: 73.28 | K45: 76.771 | L45: 64.95 | M45: 70.298083 | N45: 77.3 | O45: =N45/J45-1 -> 0.054858079 | P45: =N45/M45-1 -> 0.099603246
B47: PCR / ECL - Stage 1 % | C47: % | D47: =D43/D39 -> 0.027935434 | E47: =E43/E39 -> 0.030259769 | F47: =E47-D47 -> 0.0023243352 | H47: =H43/H39 -> 0.027935434 | I47: =I43/I39 -> 0.032853166 | J47: =J43/J39 -> 0.034144165 | K47: =K43/K39 -> 0.027916074 | L47: =L43/L39 -> 0.030259769 | M47: =M43/M39 -> 0.034004942 | N47: =N43/N39 -> 0.038512785 | O47: =N47-J47 -> 0.0043686201 | P47: =N47-M47 -> 0.0045078433
B48: PCR / ECL - Stage 2 % | C48: % | D48: =D44/D40 -> 0.59166409 | E48: =E44/E40 -> 0.75580005 | F48: =E48-D48 -> 0.16413596 | H48: =H44/H40 -> 0.59166409 | I48: =I44/I40 -> 0.59133572 | J48: =J44/J40 -> 0.59580665 | K48: =K44/K40 -> 0.62504109 | L48: =L44/L40 -> 0.75580005 | M48: =M44/M40 -> 0.80437005 | N48: =N44/N40 -> 0.7761254 | O48: =N48-J48 -> 0.18031875 | P48: =N48-M48 -> -0.02824465
...

Sheet Employees
B5: Employee Counts | C5: Unit | D5: FY25 | E5: FY26 | F5: YoY Δ | H5: Q4FY25 | I5: Q1FY26 | J5: Q2FY26 | K5: Q3FY26 | L5: Q4FY26 | M5: Q1FY27 | N5: Q2FY27 | O5: YoY Δ | P5: QoQ Δ
B6: Total Employees (Onroll) | C6: # | D6: =SUM(D7:D12) -> 1278 | E6: =SUM(E7:E12) -> 2081 | F6: =IFERROR(E6/D6-1,"na") -> 0.62832551 | H6: =SUM(H7:H12) -> 1278 | I6: =SUM(I7:I12) -> 1640 | J6: =SUM(J7:J12) -> 1817 | K6: =SUM(K7:K12) -> 1958 | L6: =SUM(L7:L12) -> 2081 | M6: =SUM(M7:M12) -> 2167 | N6: =SUM(N7:N12) -> 2223 | O6: =IFERROR(N6/J6-1,"na") -> 0.22344524 | P6: =IFERROR(N6/M6-1,"na") -> 0.025842178
B7: Technology and System | C7: # | D7: 298 | E7: 326 | F7: =IFERROR(E7/D7-1,"na") -> 0.093959732 | H7: =D7 -> 298 | I7: 327 | J7: 328 | K7: 331 | L7: 326 | M7: 327 | N7: 327 | O7: =IFERROR(N7/J7-1,"na") -> -0.0030487805 | P7: =IFERROR(N7/M7-1,"na") -> 0
B8: Data Science | C8: # | D8: 27 | E8: 41 | F8: =IFERROR(E8/D8-1,"na") -> 0.51851852 | H8: =D8 -> 27 | I8: 36 | J8: 40 | K8: 42 | L8: 41 | M8: 48 | N8: 56 | O8: =IFERROR(N8/J8-1,"na") -> 0.4 | P8: =IFERROR(N8/M8-1,"na") -> 0.16666667
B9: LAP | C9: # | D9: 521 | E9: 1084 | F9: =IFERROR(E9/D9-1,"na") -> 1.0806142 | H9: =D9 -> 521 | I9: 743 | J9: 844 | K9: 970 | L9: 1084 | M9: 1128 | N9: 1131 | O9: =IFERROR(N9/J9-1,"na") -> 0.34004739 | P9: =IFERROR(N9/M9-1,"na") -> 0.0026595745
B10: Customer service and collection | C10: # | D10: 281 | E10: 470 | F10: =IFERROR(E10/D10-1,"na") -> 0.67259786 | H10: =D10 -> 281 | I10: 379 | J10: 452 | K10: 456 | L10: 470 | M10: 495 | N10: 522 | O10: =IFERROR(N10/J10-1,"na") -> 0.15486726 | P10: =IFERROR(N10/M10-1,"na") -> 0.054545455
B11: Marketing | C11: # | D11: 20 | E11: 28 | F11: =IFERROR(E11/D11-1,"na") -> 0.4 | H11: =D11 -> 20 | I11: 20 | J11: 20 | K11: 27 | L11: 28 | M11: 33 | N11: 34 | O11: =IFERROR(N11/J11-1,"na") -> 0.7 | P11: =IFERROR(N11/M11-1,"na") -> 0.03030303
B12: Others ^ | C12: # | D12: 131 | E12: 132 | F12: =IFERROR(E12/D12-1,"na") -> 0.0076335878 | H12: =D12 -> 131 | I12: 135 | J12: 133 | K12: 132 | L12: 132 | M12: 136 | N12: 153 | O12: =IFERROR(N12/J12-1,"na") -> 0.15037594 | P12: =IFERROR(N12/M12-1,"na") -> 0.125
B13: ^ includes Senior Management team, Account, Treasury, Investor Relations, Legal & Compliance and other support team
B15: LAP Branch details | C15: =C$5 -> Unit | D15: =D$5 -> FY25 | E15: =E$5 -> FY26 | F15: =F$5 -> YoY Δ | H15: =H$5 -> Q4FY25 | I15: =I$5 -> Q1FY26 | J15: =J$5 -> Q2FY26 | K15: =K$5 -> Q3FY26 | L15: =L$5 -> Q4FY26 | M15: =M$5 -> Q1FY27 | N15: =N$5 -> Q2FY27 | O15: =O$5 -> YoY Δ | P15: =P$5 -> QoQ Δ
B16: Operational Branches | C16: # | D16: 62 | E16: 98 | F16: =IFERROR(E16/D16-1,"na") -> 0.58064516 | H16: 62 | I16: 72 | J16: 74 | K16: 82 | L16: 98 | M16: 101 | N16: 107 | O16: =IFERROR(N16/J16-1,"na") -> 0.44594595 | P16: =IFERROR(N16/M16-1,"na") -> 0.059405941
B17: Count of States & Union Territory (UT) | C17: # | D17: 7 | E17: 8 | F17: =IFERROR(E17/D17-1,"na") -> 0.14285714 | H17: 7 | I17: 7 | J17: 7 | K17: 8 | L17: 8 | M17: 8 | N17: 9 | O17: =IFERROR(N17/J17-1,"na") -> 0.28571429 | P17: =IFERROR(N17/M17-1,"na") -> 0.125
B18: Branch Count By State/UT
B19: Uttar Pradesh | C19: # | D19: 12 | E19: 25 | F19: =IFERROR(E19/D19-1,"na") -> 1.0833333 | H19: 12 | I19: 17 | J19: 17 | K19: 20 | L19: 25 | M19: 25 | N19: 25 | O19: =IFERROR(N19/J19-1,"na") -> 0.47058824 | P19: =IFERROR(N19/M19-1,"na") -> 0
B20: Andhra Pradesh | C20: # | D20: 8 | E20: 22 | F20: =IFERROR(E20/D20-1,"na") -> 1.75 | H20: 8 | I20: 10 | J20: 11 | K20: 11 | L20: 22 | M20: 24 | N20: 25 | O20: =IFERROR(N20/J20-1,"na") -> 1.2727273 | P20: =IFERROR(N20/M20-1,"na") -> 0.041666667
B21: Maharashtra | C21: # | D21: 17 | E21: 18 | F21: =IFERROR(E21/D21-1,"na") -> 0.058823529 | H21: 17 | I21: 18 | J21: 18 | K21: 18 | L21: 18 | M21: 18 | N21: 18 | O21: =IFERROR(N21/J21-1,"na") -> 0 | P21: =IFERROR(N21/M21-1,"na") -> 0
B22: Tamil Nadu | C22: # | D22: 14 | E22: 16 | F22: =IFERROR(E22/D22-1,"na") -> 0.14285714 | H22: 14 | I22: 16 | J22: 15 | K22: 16 | L22: 16 | M22: 17 | N22: 16 | O22: =IFERROR(N22/J22-1,"na") -> 0.066666667 | P22: =IFERROR(N22/M22-1,"na") -> -0.058823529
B23: Gujarat | C23: # | D23: 9 | E23: 10 | F23: =IFERROR(E23/D23-1,"na") -> 0.11111111 | H23: 9 | I23: 9 | J23: 10 | K23: 10 | L23: 10 | M23: 10 | N23: 10 | O23: =IFERROR(N23/J23-1,"na") -> 0 | P23: =IFERROR(N23/M23-1,"na") -> 0
B24: Uttarakhand | C24: # | D24: 1 | E24: 1 | F24: =IFERROR(E24/D24-1,"na") -> 0 | H24: 1 | I24: 1 | J24: 1 | K24: 1 | L24: 1 | M24: 1 | N24: 1 | O24: =IFERROR(N24/J24-1,"na") -> 0 | P24: =IFERROR(N24/M24-1,"na") -> 0
B25: Puducherry | C25: # | D25: 1 | E25: 1 | F25: =IFERROR(E25/D25-1,"na") -> 0 | H25: 1 | I25: 1 | J25: 2 | K25: 1 | L25: 1 | M25: 1 | N25: 1 | O25: =IFERROR(N25/J25-1,"na") -> -0.5 | P25: =IFERROR(N25/M25-1,"na") -> 0
B26: Telangana | C26: # | D26: 0 | E26: 5 | F26: =IFERROR(E26/D26-1,"na") -> na | H26: 0 | I26: 0 | J26: 0 | K26: 5 | L26: 5 | M26: 5 | N26: 7 | O26: =IFERROR(N26/J26-1,"na") -> na | P26: =IFERROR(N26/M26-1,"na") -> 0.4
B27: Karnataka | C27: # | D27: 0 | E27: 0 | F27: =IFERROR(E27/D27-1,"na") -> na | H27: 0 | I27: 0 | J27: 0 | K27: 0 | L27: 0 | M27: 0 | N27: 4 | O27: =IFERROR(N27/J27-1,"na") -> na | P27: =IFERROR(N27/M27-1,"na") -> na
