Workbook

Sheet Cover

Sheet Operating metrics
B5: Operational Details | C5: Unit | D5: FY25 | E5: FY26 | F5: YoY Δ | H5: Q4FY25 | I5: Q1FY26 | J5: Q3FY26 | K5: Q4FY26 | L5: Q1FY27 | M5: YoY Δ | N5: QoQ Δ
B6: Registered user base | C6: # Mns | D6: 53.23 | E6: 68.551543 | F6: =E6/D6-1 -> 0.28783661 | H6: 53.23 | I6: 56.045522 | J6: 63.728208 | K6: 68.551543 | L6: 74.600587 | M6: =L6/I6-1 -> 0.33107132 | N6: =L6/K6-1 -> 0.088240815
B7: Unique Customers Served (Cumulative) | C7: # Mns | D7: 9.16 | E7: 11.756885 | F7: =E7/D7-1 -> 0.28350273 | H7: 9.16 | I7: 9.693341 | J7: 11.174296 | K7: 11.756885 | L7: 12.252525 | M7: =L7/I7-1 -> 0.26401465 | N7: =L7/K7-1 -> 0.042157425
B8: Active Customers* | C8: # Mns | D8: 1.9 | E8: 3.250382 | F8: =E8/D8-1 -> 0.71072737 | H8: 1.9 | I8: 1.654482 | J8: 2.873584 | K8: 3.250382 | L8: 3.486629 | M8: =L8/I8-1 -> 1.1073841 | N8: =L8/K8-1 -> 0.072682842
B9: * Active customers represents customers with active non-written off loan balances
B10: Total Disbursements | C10: ₹ in crs | D10: 9857.752 | E10: 12810.19 | F10: =E10/D10-1 -> 0.29950414 | H10: 2637.0054 | I10: 2779.805 | J10: 3113.455 | K10: 3954.2379 | L10: 3811.9285 | M10: =L10/I10-1 -> 0.37129349 | N10: =L10/K10-1 -> -0.035989092
B11: Avg. Ticket Size | C11: ₹ | D11: 31808.055 | E11: 27615.755 | F11: =E11/D11-1 -> -0.13179993 | H11: 37228.697 | I11: 29315.045 | J11: 24793.609 | K11: 33695.531 | L11: 37312.112 | M11: =L11/I11-1 -> 0.27279737 | N11: =L11/K11-1 -> 0.10733119
B12: Avg. Tenure ^ | C12: Months | D12: 9.65 | E12: 14.38 | F12: =E12/D12-1 -> 0.49015544 | H12: 12.73 | I12: 13.16 | J12: 14.34 | K12: 16.72 | L12: 17.09 | M12: =L12/I12-1 -> 0.29863222 | N12: =L12/K12-1 -> 0.022129187
B13: ^ based on disbursement value
B14: AUM | C14: ₹ in crs | D14: 4086.638 | E14: 7066.439 | F14: =E14/D14-1 -> 0.72915707 | H14: 4086.638 | I14: 4971.54 | J14: 5955.7527 | K14: 7066.439 | L14: 8000.7465 | M14: =L14/I14-1 -> 0.60930949 | N14: =L14/K14-1 -> 0.13221758
B16: Customer base profile | C16: =C$5 -> Unit | D16: =D$5 -> FY25 | E16: =E$5 -> FY26 | F16: =F$5 -> YoY Δ | H16: =H$5 -> Q4FY25 | I16: =I$5 -> Q1FY26 | J16: =J$5 -> Q3FY26 | K16: =K$5 -> Q4FY26 | L16: =L$5 -> Q1FY27 | M16: =M$5 -> YoY Δ | N16: =N$5 -> QoQ Δ
B17: Customer Mix - Employment
B18: Self Employed | C18: % | D18: 0.5264 | E18: 0.5214 | F18: =E18-D18 -> -0.005 | H18: 0.58340871 | I18: 0.4693548 | J18: 0.5545002 | K18: 0.5502 | L18: 0.5312 | M18: =L18-I18 -> 0.061845197 | N18: =L18-K18 -> -0.019
B19: Salaried | C19: % | D19: 0.4736 | E19: 0.4786 | F19: =E19-D19 -> 0.005 | H19: 0.41659129 | I19: 0.5306452 | J19: 0.4454998 | K19: 0.4498 | L19: 0.4688 | M19: =L19-I19 -> -0.061845197 | N19: =L19-K19 -> 0.019
B20: Customer Mix - Age Bucket
B21: < 25 Years | C21: % | D21: 0.1544 | E21: 0.175 | F21: =E21-D21 -> 0.0206 | H21: 0.13848406 | I21: 0.16164194 | J21: 0.20318656 | K21: 0.1359 | L21: 0.1503 | M21: =L21-I21 -> -0.011341943 | N21: =L21-K21 -> 0.0144
B22: 25 - 35 Years | C22: % | D22: 0.559 | E22: 0.5533 | F22: =E22-D22 -> -0.0057 | H22: 0.56025784 | I22: 0.56357193 | J22: 0.5379443 | K22: 0.5712 | L22: 0.5651 | M22: =L22-I22 -> 0.0015280728 | N22: =L22-K22 -> -0.0061
B23: > 35 Years | C23: % | D23: 0.2866 | E23: 0.2717 | F23: =E23-D23 -> -0.0149 | H23: 0.3012581 | I23: 0.27478613 | J23: 0.25886915 | K23: 0.2928 | L23: 0.2847 | M23: =L23-I23 -> 0.0099138706 | N23: =L23-K23 -> -0.0081
B24: Average Customer Age | C24: % | D24: 32.03 | E24: 31.76
B25: Customer Mix - City Tier
B26: Top 50 cities | C26: % | D26: 0.6497 | E26: 0.6277 | F26: =E26-D26 -> -0.022 | H26: 0.6401 | I26: 0.6355 | J26: 0.6338 | K26: 0.6115 | L26: 0.6014 | M26: =L26-I26 -> -0.0341 | N26: =L26-K26 -> -0.0101
B27: Next 50 cities | C27: % | D27: 0.1673 | E27: 0.1804 | F27: =E27-D27 -> 0.0131 | H27: 0.1758 | I27: 0.1819 | J27: 0.1774 | K27: 0.1829 | L27: 0.1827 | M27: =L27-I27 -> 0.0008 | N27: =L27-K27 -> -0.0002
B28: Others | C28: % | D28: 0.183 | E28: 0.1919 | F28: =E28-D28 -> 0.0089 | H28: 0.1841 | I28: 0.1826 | J28: 0.1888 | K28: 0.2056 | L28: 0.2159 | M28: =L28-I28 -> 0.0333 | N28: =L28-K28 -> 0.0103
B29: Top cities refers to those cities with the highest loan counts among those served during the period
B30: Customer Mix - CIBIL Score Bucket
B31: < 700 | C31: % | D31: 0.0521 | E31: 0.0454 | F31: =E31-D31 -> -0.0067 | H31: 0.041779258 | I31: 0.048812452 | J31: 0.047533489 | K31: 0.0399 | L31: 0.0398 | M31: =L31-I31 -> -0.0090124518 | N31: =L31-K31 -> -0.0001
B32: 700 - 760 | C32: % | D32: 0.7349 | E32: 0.7388 | F32: =E32-D32 -> 0.0039 | H32: 0.73762253 | I32: 0.73972254 | J32: 0.73678265 | K32: 0.7323 | L32: 0.7117 | M32: =L32-I32 -> -0.028022541 | N32: =L32-K32 -> -0.0206
B33: > 760 | C33: % | D33: 0.213 | E33: 0.2159 | F33: =E33-D33 -> 0.0029 | H33: 0.22059821 | I33: 0.21146501 | J33: 0.21568387 | K33: 0.2277 | L33: 0.2484 | M33: =L33-I33 -> 0.036934993 | N33: =L33-K33 -> 0.0207
B34: All customer mix (%) mentioned above is based on the loan count during the period

Sheet P&L
B5: P&L | C5: Unit | D5: FY25 | E5: FY26 | F5: YoY Δ | H5: Q4FY25 | I5: Q1FY26 | J5: Q3FY26 | K5: Q4FY26 | L5: Q1FY27 | M5: YoY Δ | N5: QoQ Δ
B6: Revenue from operations | C6: ₹ in crs | D6: 1339.495 | E6: 2188.22 | F6: =E6/D6-1 -> 0.63361565 | H6: 371.223 | I6: 463.1 | J6: 593.606 | K6: 619.35 | L6: 669.5 | M6: =L6/I6-1 -> 0.44569208 | N6: =L6/K6-1 -> 0.080971987
B7: Other income | C7: ₹ in crs | D7: 13.193 | E7: 20.91 | F7: =E7/D7-1 -> 0.5849314 | H7: 2.024 | I7: 2.62 | J7: 7.139 | K7: 5.852 | L7: 7.055 | M7: =L7/I7-1 -> 1.6927481 | N7: =L7/K7-1 -> 0.20557075
B8: Total Income | C8: ₹ in crs | D8: =SUM(D6:D7) -> 1352.688 | E8: =SUM(E6:E7) -> 2209.13 | F8: =E8/D8-1 -> 0.63314083 | H8: =SUM(H6:H7) -> 373.247 | I8: =SUM(I6:I7) -> 465.72 | J8: =SUM(J6:J7) -> 600.745 | K8: =SUM(K6:K7) -> 625.202 | L8: =SUM(L6:L7) -> 676.555 | M8: =L8/I8-1 -> 0.45270764 | N8: =L8/K8-1 -> 0.082138253
B9: Finance costs | C9: ₹ in crs | D9: 164.402 | E9: 282.25 | F9: =E9/D9-1 -> 0.71682826 | H9: 52.273 | I9: 59.23 | J9: 75.014 | K9: 76.505 | L9: 81.875 | M9: =L9/I9-1 -> 0.38232315 | N9: =L9/K9-1 -> 0.070191491
B10: Net Total Income | C10: ₹ in crs | D10: =D8-D9 -> 1188.286 | E10: =E8-E9 -> 1926.88 | F10: =E10/D10-1 -> 0.62156249 | H10: =H8-H9 -> 320.974 | I10: =I8-I9 -> 406.49 | J10: =J8-J9 -> 525.731 | K10: =K8-K9 -> 548.697 | L10: =L8-L9 -> 594.68 | M10: =L10/I10-1 -> 0.46296342 | N10: =L10/K10-1 -> 0.083803994
B11: Operating expenses | C11: ₹ in crs | D11: 645.188 | E11: 1091.365 | F11: =E11/D11-1 -> 0.69154572 | H11: 175.32 | I11: 226.57 | J11: 299.944 | K11: 324.249 | L11: 338.884 | M11: =L11/I11-1 -> 0.49571435 | N11: =L11/K11-1 -> 0.045135066
B12: Pre-provisioning operating profit | C12: ₹ in crs | D12: =D10-D11 -> 543.098 | E12: =E10-E11 -> 835.515 | F12: =E12/D12-1 -> 0.538424 | H12: =H10-H11 -> 145.654 | I12: =I10-I11 -> 179.92 | J12: =J10-J11 -> 225.787 | K12: =K10-K11 -> 224.448 | L12: =L10-L11 -> 255.796 | M12: =L12/I12-1 -> 0.42172076 | N12: =L12/K12-1 -> 0.13966709
B13: Impairment cost | C13: ₹ in crs | D13: 326.834 | E13: 458.836 | F13: =E13/D13-1 -> 0.40388087 | H13: 75.525 | I13: 100.17 | J13: 122.095 | K13: 114.211 | L13: 128.094 | M13: =L13/I13-1 -> 0.2787661 | N13: =L13/K13-1 -> 0.12155572
B14: Profit before tax | C14: ₹ in crs | D14: =D12-D13 -> 216.264 | E14: =E12-E13 -> 376.679 | F14: =E14/D14-1 -> 0.74175545 | H14: =H12-H13 -> 70.129 | I14: =I12-I13 -> 79.75 | J14: =J12-J13 -> 103.692 | K14: =K12-K13 -> 110.237 | L14: =L12-L13 -> 127.702 | M14: =L14/I14-1 -> 0.601279 | N14: =L14/K14-1 -> 0.15843138
B15: Tax expense | C15: ₹ in crs | D15: 55.643 | E15: 95.23 | F15: =E15/D15-1 -> 0.71144618 | H15: 15.964 | I15: 20.01 | J15: 26.607 | K15: 28.057 | L15: 32.624 | M15: =L15/I15-1 -> 0.63038481 | N15: =L15/K15-1 -> 0.16277578
B16: Profit after tax | C16: ₹ in crs | D16: =D14-D15 -> 160.621 | E16: =E14-E15 -> 281.449 | F16: =E16/D16-1 -> 0.75225531 | H16: =H14-H15 -> 54.165 | I16: =I14-I15 -> 59.74 | J16: =J14-J15 -> 77.085 | K16: =K14-K15 -> 82.18 | L16: =L14-L15 -> 95.078 | M16: =L16/I16-1 -> 0.59152996 | N16: =L16/K16-1 -> 0.15694816
B18: Earnings per Equity share (FV: ₹ 1)
B19: - Basic | C19: ₹ | D19: 33.092704 | E19: 46.800942 | F19: =E19/D19-1 -> 0.4142375 | H19: 10.66539 | I19: 11.139107 | J19: 14.250513 | K19: 10.373555 | L19: 6.4123939 | M19: =L19/I19-1 -> -0.42433501 | N19: =L19/K19-1 -> -0.38185183
B20: - Diluted | C20: ₹ | D20: 12.790442 | E20: 21.385684 | F20: =E20/D20-1 -> 0.67200508 | H20: 4.1729805 | I20: 4.5373542 | J20: 5.8403957 | K20: 6.2201271 | L20: 5.8799211 | M20: =L20/I20-1 -> 0.29589202 | N20: =L20/K20-1 -> -0.054694388
B22: Operating Expenses / Total Income | C22: % | D22: =D11/D8 -> 0.47696734 | E22: =E11/E8 -> 0.4940248 | F22: =E22-D22 -> 0.017057455 | H22: =H11/H8 -> 0.46971576 | I22: =I11/I8 -> 0.48649403 | J22: =J11/J8 -> 0.49928672 | K22: =K11/K8 -> 0.51863078 | L22: =L11/L8 -> 0.50089645 | M22: =L22-I22 -> 0.014402423 | N22: =L22-K22 -> -0.017734325
B23: Cost to Income Ratio (Operating Expenses / Net Total Income) | C23: % | D23: =D11/D10 -> 0.54295683 | E23: =E11/E10 -> 0.56638971 | F23: =E23-D23 -> 0.023432877 | H23: =H11/H10 -> 0.54621247 | I23: =I11/I10 -> 0.55738149 | J23: =J11/J10 -> 0.57052751 | K23: =K11/K10 -> 0.59094364 | L23: =L11/L10 -> 0.56985942 | M23: =L23-I23 -> 0.012477935 | N23: =L23-K23 -> -0.021084215
B25: RoAA Tree - % OF AVERAGE AUM | C25: =C$5 -> Unit | D25: =D$5 -> FY25 | E25: =E$5 -> FY26 | F25: =F$5 -> YoY Δ | H25: =H$5 -> Q4FY25 | I25: =I$5 -> Q1FY26 | J25: =J$5 -> Q3FY26 | K25: =K$5 -> Q4FY26 | L25: =L$5 -> Q1FY27 | M25: =M$5 -> YoY Δ | N25: =N$5 -> QoQ Δ
B26: Revenue from operations | C26: % | D26: 0.40039229 | E26: 0.39239754 | F26: =E26-D26 -> -0.0079947513 | H26: 0.40200296 | I26: 0.40900057 | J26: 0.41335559 | K26: 0.38048895 | L26: 0.35547448 | M26: =L26-I26 -> -0.053526089 | N26: =L26-K26 -> -0.025014461
B27: Other income | C27: % | D27: 0.0039435575 | E27: 0.0037496379 | F27: =E27-D27 -> -0.0001939196 | H27: 0.00219182 | I27: 0.0023139311 | J27: 0.0049712192 | K27: 0.0035950938 | L27: 0.0037458887 | M27: =L27-I27 -> 0.0014319576 | N27: =L27-K27 -> 0.00015079496
B28: Total Income | C28: % | D28: =SUM(D26:D27) -> 0.40433585 | E28: =SUM(E26:E27) -> 0.39614718 | F28: =E28-D28 -> -0.0081886709 | H28: =SUM(H26:H27) -> 0.40419478 | I28: =SUM(I26:I27) -> 0.4113145 | J28: =SUM(J26:J27) -> 0.41832681 | K28: =SUM(K26:K27) -> 0.38408404 | L28: =SUM(L26:L27) -> 0.35922037 | M28: =L28-I28 -> -0.052094131 | N28: =L28-K28 -> -0.024863666
B29: Finance costs | C29: % | D29: 0.049141873 | E29: 0.050613835 | F29: =E29-D29 -> 0.0014719616 | H29: 0.056607216 | I29: =I9*4/AVERAGE('Operating metrics'!H$14:I$14) -> 0.052310741 | J29: 0.052235753 | K29: 0.046999769 | L29: 0.043471954 | M29: =L29-I29 -> -0.0088387863 | N29: =L29-K29 -> -0.0035278145
B30: Net Total Income | C30: % | D30: =D28-D29 -> 0.35519398 | E30: =E28-E29 -> 0.34553334 | F30: =E30-D30 -> -0.0096606325 | H30: =H28-H29 -> 0.34758756 | I30: =I28-I29 -> 0.35900376 | J30: =J28-J29 -> 0.36609106 | K30: =K28-K29 -> 0.33708427 | L30: =L28-L29 -> 0.31574842 | M30: =L30-I30 -> -0.043255345 | N30: =L30-K30 -> -0.021335852
B31: Operating expenses | C31: % | D31: 0.192855 | E31: 0.19570653 | F31: =E31-D31 -> 0.0028515341 | H31: 0.18985666 | I31: =I11*4/AVERAGE('Operating metrics'!H$14:I$14) -> 0.20010205 | J31: 0.20886502 | K31: 0.1991978 | L31: 0.17993221 | M31: =L31-I31 -> -0.02016984 | N31: =L31-K31 -> -0.019265594
B32: Pre-provisioning operating profit (PPOP) | C32: % | D32: =D30-D31 -> 0.16233898 | E32: =E30-E31 -> 0.14982681 | F32: =E32-D32 -> -0.012512167 | H32: =H30-H31 -> 0.1577309 | I32: =I30-I31 -> 0.15890171 | J32: =J30-J31 -> 0.15722604 | K32: =K30-K31 -> 0.13788647 | L32: =L30-L31 -> 0.13581621 | M32: =L32-I32 -> -0.023085505 | N32: =L32-K32 -> -0.0020702584
B33: Impairment cost | C33: % | D33: 0.097694889 | E33: 0.082279715 | F33: =E33-D33 -> -0.015415173 | H33: 0.081787156 | I33: =I13*4/AVERAGE('Operating metrics'!H$14:I$14) -> 0.088468122 | J33: 0.085020453 | K33: 0.070163919 | L33: 0.068012171 | M33: =L33-I33 -> -0.020455951 | N33: =L33-K33 -> -0.0021517474
B34: Profit before tax (PBT) | C34: % | D34: =D32-D33 -> 0.064644093 | E34: =E32-E33 -> 0.067547099 | F34: =E34-D34 -> 0.0029030067 | H34: =H32-H33 -> 0.075943747 | I34: =I32-I33 -> 0.070433591 | J34: =J32-J33 -> 0.072205584 | K34: =K32-K33 -> 0.067722548 | L34: =L32-L33 -> 0.067804037 | M34: =L34-I34 -> -0.0026295537 | N34: =L34-K34 -> 8.1489056e-05
B35: Tax expense | C35: % | D35: 0.016632409 | E35: 0.017076902 | F35: =E35-D35 -> 0.00044449298 | H35: 0.017287655 | I35: =I15*4/AVERAGE('Operating metrics'!H$14:I$14) -> 0.017672428 | J35: 0.018527697 | K35: 0.017236423 | L35: 0.017321881 | M35: =L35-I35 -> -0.00035054677 | N35: =L35-K35 -> 8.5458749e-05
B36: Profit after tax (PAT) or Return on Avg. AUM (RoAA) % | C36: % | D36: =D34-D35 -> 0.048011684 | E36: =E34-E35 -> 0.050470198 | F36: =E36-D36 -> 0.0024585137 | H36: =H34-H35 -> 0.058656092 | I36: =I34-I35 -> 0.052761162 | J36: =J34-J35 -> 0.053677887 | K36: =K34-K35 -> 0.050486125 | L36: =L34-L35 -> 0.050482155 | M36: =L36-I36 -> -0.0022790069 | N36: =L36-K36 -> -3.9696934e-06
B37: Return on Avg. Equity (RoAE) % | C37: % | D37: 0.17742658 | E37: 0.23965609 | F37: =E37-D37 -> 0.062229513 | H37: 0.22207485 | I37: 0.22881284 | J37: 0.25403662 | K37: 0.25314214 | L37: 0.21199971 | M37: =L37-I37 -> -0.016813129 | N37: =L37-K37 -> -0.041142429
B39: Yield | C39: ='AUM Profile & Asset Quality'!C$5 -> Unit | D39: ='AUM Profile & Asset Quality'!D$5 -> FY25 | E39: ='AUM Profile & Asset Quality'!E$5 -> FY26 | F39: ='AUM Profile & Asset Quality'!F$5 -> YoY Δ | H39: ='AUM Profile & Asset Quality'!H$5 -> Q4FY25 | I39: ='AUM Profile & Asset Quality'!I$5 -> Q1FY26 | J39: ='AUM Profile & Asset Quality'!J$5 -> Q3FY26 | K39: ='AUM Profile & Asset Quality'!K$5 -> Q4FY26 | L39: ='AUM Profile & Asset Quality'!L$5 -> Q1FY27 | M39: ='AUM Profile & Asset Quality'!M$5 -> YoY Δ | N39: ='AUM Profile & Asset Quality'!N$5 -> QoQ Δ
B40: Portfolio Yield ^ | C40: % | D40: 0.32648853 | E40: 0.30904411 | F40: =E40-D40 -> -0.017444422 | H40: 0.30349267 | I40: 0.321793 | J40: 0.31481975 | K40: 0.32615469 | L40: 0.32353953 | M40: =L40-I40 -> 0.0017465288 | N40: =L40-K40 -> -0.0026151586
B41: Average Cost of Borrowings ^^ | C41: % | D41: 0.15073464 | E41: 0.1477977 | F41: =E41-D41 -> -0.0029369425 | H41: 0.15949695 | I41: 0.15676224 | J41: 0.14512238 | K41: 0.14553231 | L41: 0.14454482 | M41: =L41-I41 -> -0.012217425 | N41: =L41-K41 -> -0.00098749211
B42: Spread | C42: % | D42: =D40-D41 -> 0.1757539 | E42: =E40-E41 -> 0.16124642 | F42: =E42-D42 -> -0.014507479 | H42: =H40-H41 -> 0.14399571 | I42: =I40-I41 -> 0.16503076 | J42: =J40-J41 -> 0.16969737 | K42: =K40-K41 -> 0.18062238 | L42: =L40-L41 -> 0.17899472 | M42: =L42-I42 -> 0.013963954 | N42: =L42-K42 -> -0.0016276665
B43: ^Represents yield for on-book loans, incl co-lending share
B44: ^^ Based on daily average on-book debt balance. Previously this was calculated on monthly average on-book debt balance; the corresponding figures were 14.5% (FY25), 14.2% (FY26), 14.9% (Q4FY25), 14.3% (Q3FY26), and 13.3% (Q4FY26)
B45: Ratios for quarterly periods are annualized

Sheet BS
B5: Balance Sheet | C5: Unit | D5: FY25 | E5: FY26 | F5: YoY Δ | H5: Q4FY25 | I5: Q1FY26 | J5: Q3FY26 | K5: Q4FY26 | L5: Q1FY27 | M5: YoY Δ | N5: QoQ Δ
B6: ASSETS
B7: Cash & Cash equivalents | C7: ₹ in crs | D7: 132.72 | E7: 209.456 | F7: =IFERROR(E7/D7-1,100%) -> 0.57817963 | H7: 132.72 | I7: 204.82 | J7: 189.45 | K7: 209.456 | L7: 655.823 | M7: =L7/I7-1 -> 2.2019481 | N7: =L7/K7-1 -> 2.1310776
B8: Bank balances other than cash & cash equivalents | C8: ₹ in crs | D8: 11.77 | E8: 31.75 | F8: =IFERROR(E8/D8-1,100%) -> 1.6975361 | H8: 11.77 | I8: 6.73 | J8: 55.39 | K8: 31.75 | L8: 7.58 | M8: =L8/I8-1 -> 0.12630015 | N8: =L8/K8-1 -> -0.76125984
B9: Loans | C9: ₹ in crs | D9: 2157.74 | E9: 3189.34 | F9: =IFERROR(E9/D9-1,100%) -> 0.47809282 | H9: 2157.74 | I9: 2262.41 | J9: 2679.02 | K9: 3189.34 | L9: 3296.397 | M9: =L9/I9-1 -> 0.45702901 | N9: =L9/K9-1 -> 0.033567133
B10: Investments | C10: ₹ in crs | D10: 0 | E10: 8.045 | F10: =IFERROR(E10/D10-1,100%) -> 1 | H10: 0 | I10: 0 | J10: 85.55 | K10: 8.045 | L10: 8.196 | M10: na | N10: =L10/K10-1 -> 0.018769422
B11: Other Financial Assets | C11: ₹ in crs | D11: 216.74 | E11: 314.767 | F11: =IFERROR(E11/D11-1,100%) -> 0.45227923 | H11: 216.74 | I11: 340.076 | J11: 319.43 | K11: 314.767 | L11: 411.313 | M11: =L11/I11-1 -> 0.20947376 | N11: =L11/K11-1 -> 0.30672212
B12: Non-Financial Assets | C12: ₹ in crs | D12: 182.13 | E12: 235.21 | F12: =IFERROR(E12/D12-1,100%) -> 0.29144018 | H12: 182.13 | I12: 214.253 | J12: 239.94 | K12: 235.21 | L12: 239 | M12: =L12/I12-1 -> 0.11550363 | N12: =L12/K12-1 -> 0.01611326
B13: Total Assets | C13: ₹ in crs | D13: =SUM(D7:D12) -> 2701.1 | E13: =SUM(E7:E12) -> 3988.568 | F13: =IFERROR(E13/D13-1,100%) -> 0.47664581 | H13: =SUM(H7:H12) -> 2701.1 | I13: =SUM(I7:I12) -> 3028.289 | J13: =SUM(J7:J12) -> 3568.78 | K13: =SUM(K7:K12) -> 3988.568 | L13: =SUM(L7:L12) -> 4618.309 | M13: =L13/I13-1 -> 0.52505557 | N13: =L13/K13-1 -> 0.15788649
B15: LIABILITIES & EQUITY
B16: Trade Payables | C16: ₹ in crs | D16: 52.2 | E16: 104.84 | F16: =IFERROR(E16/D16-1,100%) -> 1.0084291 | H16: 52.2 | I16: 65.7 | J16: 75.51 | K16: 104.84 | L16: 130.201 | M16: =L16/I16-1 -> 0.98175038 | N16: =L16/K16-1 -> 0.24190195
B17: Debt Securities | C17: ₹ in crs | D17: 513.413 | E17: 1303.835 | F17: =IFERROR(E17/D17-1,100%) -> 1.5395442 | H17: 513.413 | I17: 661.32 | J17: 1200.795 | K17: 1303.835 | L17: 1166.361 | M17: =L17/I17-1 -> 0.76368626 | N17: =L17/K17-1 -> -0.10543819
B18: Borrowings other than Debt Securities | C18: ₹ in crs | D18: 994.166 | E18: 1092.265 | F18: =IFERROR(E18/D18-1,100%) -> 0.098674668 | H18: 994.166 | I18: 1020.54 | J18: 846.722 | K18: 1092.265 | L18: 876.842 | M18: =L18/I18-1 -> -0.14080585 | N18: =L18/K18-1 -> -0.19722595
B19: Other Financial Liabilities | C19: ₹ in crs | D19: 98.565 | E19: 104.636 | F19: =IFERROR(E19/D19-1,100%) -> 0.061593872 | H19: 98.565 | I19: 132.37 | J19: 154.039 | K19: 104.636 | L19: 142.225 | M19: =L19/I19-1 -> 0.074450404 | N19: =L19/K19-1 -> 0.35923583
B20: Non-Financial Liabilities | C20: ₹ in crs | D20: 36.763 | E20: 40.21 | F20: =IFERROR(E20/D20-1,100%) -> 0.093762751 | H20: 36.763 | I20: 65.66 | J20: 37.373 | K20: 40.21 | L20: 57.608 | M20: =L20/I20-1 -> -0.12263174 | N20: =L20/K20-1 -> 0.43267844
B21: Total Equity | C21: ₹ in crs | D21: 1005.99 | E21: 1342.784 | F21: =IFERROR(E21/D21-1,100%) -> 0.33478862 | H21: 1005.99 | I21: 1082.7 | J21: 1254.34 | K21: 1342.784 | L21: 2245.074 | M21: =L21/I21-1 -> 1.0735883 | N21: =L21/K21-1 -> 0.67195469
B22: Total Liabilities & Equity | C22: ₹ in crs | D22: =SUM(D16:D21) -> 2701.097 | E22: =SUM(E16:E21) -> 3988.57 | F22: =IFERROR(E22/D22-1,100%) -> 0.47664819 | H22: =SUM(H16:H21) -> 2701.097 | I22: =SUM(I16:I21) -> 3028.29 | J22: =SUM(J16:J21) -> 3568.779 | K22: =SUM(K16:K21) -> 3988.57 | L22: =SUM(L16:L21) -> 4618.311 | M22: =L22/I22-1 -> 0.52505572 | N22: =L22/K22-1 -> 0.15788641
B24: Debt-to-Equity (On-book) | C24: x | D24: 1.4985987 | E24: 1.7844323 | F24: =IFERROR(E24/D24-1,100%) -> 0.1907339 | H24: 1.4985987 | I24: 1.5533943 | J24: 1.6323487 | K24: 1.7844323 | L24: 0.9100827 | M24: =L24/I24-1 -> -0.41413284 | N24: =L24/K24-1 -> -0.48998755
B25: Leverage (AUM / Net Worth) | C25: x | D25: 4.0623048 | E25: 5.2625284 | F25: =IFERROR(E25/D25-1,100%) -> 0.29545387 | H25: 4.0623048 | I25: 4.5917983 | J25: 4.7481167 | K25: 5.2625284 | L25: 3.5636894 | M25: =L25/I25-1 -> -0.22390114 | N25: =L25/K25-1 -> -0.32281802
B26: Book Value per share (Basic) | C26: ₹ | D26: 187.57667 | E26: 113.05235 | F26: =IFERROR(E26/D26-1,100%) -> -0.3973006 | H26: 187.57667 | I26: 201.88 | J26: 231.84262 | K26: 113.05235 | L26: 133.25224 | M26: =L26/I26-1 -> -0.33994334 | N26: =L26/K26-1 -> 0.17867733
B27: Book Value per share (Diluted) | C27: ₹ | D27: 75.709399 | E27: 101.56112 | F27: =IFERROR(E27/D27-1,100%) -> 0.34145981 | H27: 75.709399 | I27: 82.043862 | J27: 95.024848 | K27: 101.56112 | L27: 123.41659 | M27: =L27/I27-1 -> 0.50427568 | N27: =L27/K27-1 -> 0.21519526

Sheet Capital & Liability
B5: On-book Borrowings | C5: Unit | D5: FY25 | E5: FY26 | F5: YoY Δ | H5: Q4FY25 | I5: Q1FY26 | J5: Q3FY26 | K5: Q4FY26 | L5: Q1FY27 | M5: YoY Δ | N5: QoQ Δ
B6: NCD | C6: ₹ in crs | D6: 513.41488 | E6: 1289.3253 | F6: =IFERROR(E6/D6-1,100%) -> 1.5112738 | H6: 513.41488 | I6: 564.37 | J6: 1126.614 | K6: 1289.3253 | L6: 1151.47 | M6: =L6/I6-1 -> 1.040275 | N6: =L6/K6-1 -> -0.10692052
B7: TL | C7: ₹ in crs | D7: 654.58081 | E7: 879.19547 | F7: =IFERROR(E7/D7-1,100%) -> 0.34314277 | H7: 654.58081 | I7: 635.72 | J7: 568.254 | K7: 879.19547 | L7: 739.17 | M7: =L7/I7-1 -> 0.16272887 | N7: =L7/K7-1 -> -0.15926546
B8: PTC | C8: ₹ in crs | D8: 300.24352 | E8: 197.93388 | F8: =IFERROR(E8/D8-1,100%) -> -0.34075553 | H8: 300.24352 | I8: 369.82 | J8: 248.382 | K8: 197.93388 | L8: 122.55 | M8: =L8/I8-1 -> -0.66862257 | N8: =L8/K8-1 -> -0.38085384
B9: WCDL | C9: ₹ in crs | D9: 30.449178 | E9: 15.140137 | F9: =IFERROR(E9/D9-1,100%) -> -0.50277354 | H9: 30.449178 | I9: 15 | J9: 30.086 | K9: 15.140137 | L9: 15.13 | M9: =L9/I9-1 -> 0.0086666667 | N9: =L9/K9-1 -> -0.0006695439
B10: CP | C10: ₹ in crs | D10: 0 | E10: 14.508228 | F10: =IFERROR(E10/D10-1,100%) -> 1 | H10: 0 | I10: 96.95 | J10: 74.181 | K10: 14.508228 | L10: 14.89 | M10: =L10/I10-1 -> -0.84641568 | N10: =L10/K10-1 -> 0.026314179
B11: Bank OD | C11: ₹ in crs | D11: 8.8929313 | E11: 0 | F11: =IFERROR(E11/D11-1,100%) -> -1 | H11: 8.8929313 | I11: 0 | J11: 0 | K11: 0 | L11: 0 | M11: na | N11: na
B12: Total | C12: ₹ in crs | D12: =SUM(D6:D11) -> 1507.5813 | E12: =SUM(E6:E11) -> 2396.1031 | F12: =IFERROR(E12/D12-1,100%) -> 0.58936903 | H12: =SUM(H6:H11) -> 1507.5813 | I12: =SUM(I6:I11) -> 1681.86 | J12: =SUM(J6:J11) -> 2047.517 | K12: =SUM(K6:K11) -> 2396.1031 | L12: =SUM(L6:L11) -> 2043.21 | M12: =L12/I12-1 -> 0.21485141 | N12: =L12/K12-1 -> -0.14727791
B14: Mix
B15: =B6 -> NCD | C15: % | D15: =D6/D$12 -> 0.34055535 | E15: =E6/E$12 -> 0.53809261 | F15: =E15-D15 -> 0.19753726 | H15: =H6/H$12 -> 0.34055535 | I15: =I6/I$12 -> 0.33556301 | J15: =J6/J$12 -> 0.55023426 | K15: =K6/K$12 -> 0.53809261 | L15: =L6/L$12 -> 0.5635593 | M15: =L15-I15 -> 0.22799629 | N15: =L15-K15 -> 0.025466694
B16: =B7 -> TL | C16: % | D16: =D7/D$12 -> 0.4341927 | E16: =E7/E$12 -> 0.36692724 | F16: =E16-D16 -> -0.067265465 | H16: =H7/H$12 -> 0.4341927 | I16: =I7/I$12 -> 0.37798628 | J16: =J7/J$12 -> 0.27753323 | K16: =K7/K$12 -> 0.36692724 | L16: =L7/L$12 -> 0.36176898 | M16: =L16-I16 -> -0.016217296 | N16: =L16-K16 -> -0.0051582555
B17: =B8 -> PTC | C17: % | D17: =D8/D$12 -> 0.19915577 | E17: =E8/E$12 -> 0.082606579 | F17: =E17-D17 -> -0.11654919 | H17: =H8/H$12 -> 0.19915577 | I17: =I8/I$12 -> 0.21988751 | J17: =J8/J$12 -> 0.12130888 | K17: =K8/K$12 -> 0.082606579 | L17: =L8/L$12 -> 0.05997915 | M17: =L17-I17 -> -0.15990836 | N17: =L17-K17 -> -0.022627429
B18: =B9 -> WCDL | C18: % | D18: =D9/D$12 -> 0.02019737 | E18: =E9/E$12 -> 0.0063186502 | F18: =E18-D18 -> -0.01387872 | H18: =H9/H$12 -> 0.02019737 | I18: =I9/I$12 -> 0.0089186972 | J18: =J9/J$12 -> 0.014693895 | K18: =K9/K$12 -> 0.0063186502 | L18: =L9/L$12 -> 0.0074050147 | M18: =L18-I18 -> -0.0015136825 | N18: =L18-K18 -> 0.0010863645
B19: =B10 -> CP | C19: % | D19: =D10/D$12 -> 0 | E19: =E10/E$12 -> 0.0060549265 | F19: =E19-D19 -> 0.0060549265 | H19: =H10/H$12 -> 0 | I19: =I10/I$12 -> 0.057644513 | J19: =J10/J$12 -> 0.036229736 | K19: =K10/K$12 -> 0.0060549265 | L19: =L10/L$12 -> 0.0072875524 | M19: =L19-I19 -> -0.05035696 | N19: =L19-K19 -> 0.0012326259
B20: =B11 -> Bank OD | C20: % | D20: =D11/D$12 -> 0.0058988071 | E20: =E11/E$12 -> 0 | F20: =E20-D20 -> -0.0058988071 | H20: =H11/H$12 -> 0.0058988071 | I20: =I11/I$12 -> 0 | J20: =J11/J$12 -> 0 | K20: =K11/K$12 -> 0 | L20: =L11/L$12 -> 0 | M20: na | N20: na
B22: Capital Adequacy * | C22: =C$5 -> Unit | D22: =D$5 -> FY25 | E22: =E$5 -> FY26 | F22: =F$5 -> YoY Δ | H22: =H$5 -> Q4FY25 | I22: =I$5 -> Q1FY26 | J22: =J$5 -> Q3FY26 | K22: =K$5 -> Q4FY26 | L22: =L$5 -> Q1FY27 | M22: =M$5 -> YoY Δ | N22: =N$5 -> QoQ Δ
B23: CRAR (Total Capital / Total Risk Weighted Assets) | C23: % | D23: 0.2518 | E23: 0.2528 | F23: =E23-D23 -> 0.001 | H23: 0.2518 | I23: 0.2541 | J23: 0.26682973 | K23: 0.2528 | L23: 0.4019209 | M23: =L23-I23 -> 0.1478209 | N23: =L23-K23 -> 0.1491209
B24: CRAR - Tier I Capital | C24: % | D24: 0.2518 | E24: 0.244 | F24: =E24-D24 -> -0.0078 | H24: 0.2518 | I24: 0.2468 | J24: 0.25927326 | K24: 0.244 | L24: 0.39221319 | M24: =L24-I24 -> 0.14541319 | N24: =L24-K24 -> 0.14821319
B25: CRAR - Tier II Capital | C25: % | D25: 0 | E25: 0.0088 | F25: =E25-D25 -> 0.0088 | H25: 0 | I25: 0.0073 | J25: 0.0075564682 | K25: 0.0088 | L25: 0.0097077127 | M25: =L25-I25 -> 0.0024077127 | N25: =L25-K25 -> 0.00090771265
B26: * CRAR ratio is for subsidiary
B28: Credit Rating (Long Term) | C28: =C$5 -> Unit | D28: =D$5 -> FY25 | E28: =E$5 -> FY26 | F28: =F$5 -> YoY Δ | H28: =H$5 -> Q4FY25 | I28: =I$5 -> Q1FY26 | J28: =J$5 -> Q3FY26 | K28: =K$5 -> Q4FY26 | L28: =L$5 -> Q1FY27 | M28: =M$5 -> YoY Δ | N28: =N$5 -> QoQ Δ
B29: CRISIL Ratings Limited | D29: BBB+/Stable | E29: A-/Stable | H29: BBB+/Stable | I29: BBB+/Stable | J29: BBB+/Stable | K29: A-/Stable | L29: A-/Stable
B30: India Ratings and Research Private Limited | E30: A-/Stable | J30: A-/Stable | K30: A-/Stable | L30: A-/Stable
B31: Acuité Ratings & Research Limited | D31: A-/Stable | E31: A-/Stable | H31: A-/Stable | I31: A-/Stable | J31: A-/Stable | K31: A-/Stable | L31: A-/Stable
B33: Off-book Arrangements | C33: =C$5 -> Unit | D33: =D$5 -> FY25 | E33: =E$5 -> FY26 | F33: =F$5 -> YoY Δ | H33: =H$5 -> Q4FY25 | I33: =I$5 -> Q1FY26 | J33: =J$5 -> Q3FY26 | K33: =K$5 -> Q4FY26 | L33: =L$5 -> Q1FY27 | M33: =M$5 -> YoY Δ | N33: =N$5 -> QoQ Δ
B34: 100-0 arrangement | C34: ₹ in crs | D34: 1018.0037 | E34: 2266.39 | F34: =IFERROR(E34/D34-1,100%) -> 1.2263082 | H34: 1018.0037 | I34: 1552.03 | J34: 1916.193 | K34: 2266.39 | L34: 2337.23 | M34: =L34/I34-1 -> 0.50591806 | N34: =L34/K34-1 -> 0.031256756
B35: Co-lending | C35: ₹ in crs | D35: 583.75652 | E35: 1221.83 | F35: =IFERROR(E35/D35-1,100%) -> 1.0930473 | H35: 583.75652 | I35: 765.76 | J35: 950.81 | K35: 1221.83 | L35: 1786.82 | M35: =L35/I35-1 -> 1.3333943 | N35: =L35/K35-1 -> 0.46241294
B36: Direct Assignment (DA) | C36: ₹ in crs | D36: 10.319302 | E36: 21.9632 | F36: =IFERROR(E36/D36-1,100%) -> 1.128361 | H36: 10.319302 | I36: 43.3 | J36: 43.617 | K36: 21.9632 | L36: 160.39 | M36: =L36/I36-1 -> 2.704157 | N36: =L36/K36-1 -> 6.3026699
B37: Total | C37: ₹ in crs | D37: =SUM(D34:D36) -> 1612.0795 | E37: =SUM(E34:E36) -> 3510.1832 | F37: =IFERROR(E37/D37-1,100%) -> 1.1774256 | H37: =SUM(H34:H36) -> 1612.0795 | I37: =SUM(I34:I36) -> 2361.09 | J37: =SUM(J34:J36) -> 2910.62 | K37: =SUM(K34:K36) -> 3510.1832 | L37: =SUM(L34:L36) -> 4284.44 | M37: =L37/I37-1 -> 0.81460258 | N37: =L37/K37-1 -> 0.22057447

Sheet AUM Profile & Asset Quality
B5: AUM Mix | C5: Unit | D5: FY25 | E5: FY26 | F5: YoY Δ | H5: Q4FY25 | I5: Q1FY26 | J5: Q3FY26 | K5: Q4FY26 | L5: Q1FY27 | M5: YoY Δ | N5: QoQ Δ
B6: Secured vs. Unsecured
B7: PL | C7: ₹ in crs | D7: 4011.124 | E7: 6548.3548 | F7: =E7/D7-1 -> 0.63254858 | H7: 4011.124 | I7: 4845.99 | J7: 5612.285 | K7: 6548.3548 | L7: 7383.8465 | M7: =L7/I7-1 -> 0.52370238 | N7: =L7/K7-1 -> 0.12758803
B8: LAP | C8: ₹ in crs | D8: 75.514 | E8: 518.0842 | F8: =E8/D8-1 -> 5.8607702 | H8: 75.514 | I8: 125.55 | J8: 343.468 | K8: 518.0842 | L8: 616.9 | M8: =L8/I8-1 -> 3.9135802 | N8: =L8/K8-1 -> 0.19073309
B9: PL % | C9: % | D9: =D7/SUM(D$7:D$8) -> 0.98152173 | E9: =E7/SUM(E$7:E$8) -> 0.92668384 | F9: =E9-D9 -> -0.054837894 | H9: =H7/SUM(H$7:H$8) -> 0.98152173 | I9: =I7/SUM(I$7:I$8) -> 0.97474626 | J9: =J7/SUM(J$7:J$8) -> 0.94233005 | K9: =K7/SUM(K$7:K$8) -> 0.92668384 | L9: =L7/SUM(L$7:L$8) -> 0.92289469 | M9: =L9-I9 -> -0.051851561 | N9: =L9-K9 -> -0.0037891413
B10: LAP % | C10: % | D10: =D8/SUM(D$7:D$8) -> 0.01847827 | E10: =E8/SUM(E$7:E$8) -> 0.073316164 | F10: =E10-D10 -> 0.054837894 | H10: =H8/SUM(H$7:H$8) -> 0.01847827 | I10: =I8/SUM(I$7:I$8) -> 0.025253744 | J10: =J8/SUM(J$7:J$8) -> 0.057669954 | K10: =K8/SUM(K$7:K$8) -> 0.073316164 | L10: =L8/SUM(L$7:L$8) -> 0.077105305 | M10: =L10-I10 -> 0.051851561 | N10: =L10-K10 -> 0.0037891413
B11: On-Book vs. Off-Book
B12: On-Book | C12: ₹ in crs | D12: 2474.558 | E12: 3556.26 | F12: =E12/D12-1 -> 0.43712938 | H12: 2474.558 | I12: 2610.45 | J12: 3045.1327 | K12: 3556.26 | L12: 3716.2979 | M12: =L12/I12-1 -> 0.42362349 | N12: =L12/K12-1 -> 0.045001756
B13: Off-Book | C13: ₹ in crs | D13: 1612.08 | E13: 3510.179 | F13: =E13/D13-1 -> 1.1774223 | H13: 1612.08 | I13: 2361.09 | J13: 2910.62 | K13: 3510.179 | L13: 4284.4485 | M13: =L13/I13-1 -> 0.8146062 | N13: =L13/K13-1 -> 0.22057836
B14: On-Book % | C14: % | D14: =D12/SUM(D$12:D$13) -> 0.60552415 | E14: =E12/SUM(E$12:E$13) -> 0.50326055 | F14: =E14-D14 -> -0.1022636 | H14: =H12/SUM(H$12:H$13) -> 0.60552415 | I14: =I12/SUM(I$12:I$13) -> 0.52507875 | J14: =J12/SUM(J$12:J$13) -> 0.51129267 | K14: =K12/SUM(K$12:K$13) -> 0.50326055 | L14: =L12/SUM(L$12:L$13) -> 0.4644939 | M14: =L14-I14 -> -0.060584848 | N14: =L14-K14 -> -0.038766652
B15: Off-Book % | C15: % | D15: =D13/SUM(D$12:D$13) -> 0.39447585 | E15: =E13/SUM(E$12:E$13) -> 0.49673945 | F15: =E15-D15 -> 0.1022636 | H15: =H13/SUM(H$12:H$13) -> 0.39447585 | I15: =I13/SUM(I$12:I$13) -> 0.47492125 | J15: =J13/SUM(J$12:J$13) -> 0.48870733 | K15: =K13/SUM(K$12:K$13) -> 0.49673945 | L15: =L13/SUM(L$12:L$13) -> 0.5355061 | M15: =L15-I15 -> 0.060584848 | N15: =L15-K15 -> 0.038766652
B16: New vs. Repeat
B17: New customers | C17: ₹ in crs | D17: 1091.057 | E17: 3569.07 | F17: =E17/D17-1 -> 2.271204 | H17: 1091.057 | I17: 1721.8633 | J17: 2940.737 | K17: 3569.07 | L17: 3888.75 | M17: =L17/I17-1 -> 1.2584545 | N17: =L17/K17-1 -> 0.089569552
B18: Repeat customers | C18: ₹ in crs | D18: 2995.581 | E18: 3497.37 | F18: =E18/D18-1 -> 0.16750974 | H18: 2995.581 | I18: 3249.6767 | J18: 3015.016 | K18: 3497.37 | L18: 4111.9965 | M18: =L18/I18-1 -> 0.26535557 | N18: =L18/K18-1 -> 0.17573962
B19: Repeat customer AUM % | C19: % | D19: =D18/SUM(D17:D18) -> 0.73301844 | E19: =E18/SUM(E17:E18) -> 0.49492672 | F19: =E19-D19 -> -0.23809171 | H19: =H18/SUM(H17:H18) -> 0.73301844 | I19: =I18/SUM(I17:I18) -> 0.65365595 | J19: =J18/SUM(J17:J18) -> 0.5062359 | K19: =K18/SUM(K17:K18) -> 0.49492672 | L19: =L18/SUM(L17:L18) -> 0.5139516 | M19: =L19-I19 -> -0.13970434 | N19: =L19-K19 -> 0.019024879
B20: AUM by region
B21: South(1) | C21: ₹ in crs | D21: 1344.88 | E21: 2529.97 | F21: =E21/D21-1 -> 0.88118643 | H21: 1344.88 | I21: 1698.3894 | J21: 2084.3 | K21: 2529.97 | L21: 2843.71 | M21: =L21/I21-1 -> 0.67435686 | N21: =L21/K21-1 -> 0.12400938
B22: West(2) | C22: ₹ in crs | D22: 1188.16 | E22: 1816.9918 | F22: =E22/D22-1 -> 0.52924845 | H22: 1188.16 | I22: 1398.6103 | J22: 1576.76 | K22: 1816.9918 | L22: 2068.08 | M22: =L22/I22-1 -> 0.47866784 | N22: =L22/K22-1 -> 0.13818894
B23: North(3) | C23: ₹ in crs | D23: 785.01 | E23: 1530.09 | F23: =E23/D23-1 -> 0.94913441 | H23: 785.01 | I23: 961.73487 | J23: 1193.27 | K23: 1530.09 | L23: 1626.06 | M23: =L23/I23-1 -> 0.69075705 | N23: =L23/K23-1 -> 0.062721801
B24: East(4) | C24: ₹ in crs | D24: 548.55 | E24: 955.73046 | F24: =E24/D24-1 -> 0.74228504 | H24: 548.55 | I24: 655.60967 | J24: 786.81 | K24: 955.73046 | L24: =1078.81 -> 1078.81 | M24: =L24/I24-1 -> 0.64550654 | N24: =L24/K24-1 -> 0.1287806
B25: Central (5) | C25: ₹ in crs | D25: 220.04 | E25: 233.65345 | F25: =E25/D25-1 -> 0.061868077 | H25: 220.04 | I25: 257.19893 | J25: 314.61 | K25: 233.65345 | L25: 383.96 | M25: =L25/I25-1 -> 0.49285224 | N25: =L25/K25-1 -> 0.64328837
B26: =B21&" %" -> South(1) % | C26: % | D26: =D21/SUM(D$21:D$25) -> 0.32909187 | E26: =E21/SUM(E$21:E$25) -> 0.35802632 | F26: =E26-D26 -> 0.028934452 | H26: =H21/SUM(H$21:H$25) -> 0.32909187 | I26: =I21/SUM(I$21:I$25) -> 0.34162218 | J26: =J21/SUM(J$21:J$25) -> 0.34996432 | K26: =K21/SUM(K$21:K$25) -> 0.35802632 | L26: =L21/SUM(L$21:L$25) -> 0.3554362 | M26: =L26-I26 -> 0.013814019 | N26: =L26-K26 -> -0.0025901185
B27: =B22&" %" -> West(2) % | C27: % | D27: =D22/SUM(D$21:D$25) -> 0.29074252 | E27: =E22/SUM(E$21:E$25) -> 0.25712989 | F27: =E27-D27 -> -0.033612629 | H27: =H22/SUM(H$21:H$25) -> 0.29074252 | I27: =I22/SUM(I$21:I$25) -> 0.28132316 | J27: =J22/SUM(J$21:J$25) -> 0.26474583 | K27: =K22/SUM(K$21:K$25) -> 0.25712989 | L27: =L22/SUM(L$21:L$25) -> 0.25848997 | M27: =L27-I27 -> -0.022833198 | N27: =L27-K27 -> 0.0013600788
B28: =B23&" %" -> North(3) % | C28: % | D28: =D23/SUM(D$21:D$25) -> 0.19209179 | E28: =E23/SUM(E$21:E$25) -> 0.21652925 | F28: =E28-D28 -> 0.024437454 | H28: =H23/SUM(H$21:H$25) -> 0.19209179 | I28: =I23/SUM(I$21:I$25) -> 0.19344796 | J28: =J23/SUM(J$21:J$25) -> 0.20035596 | K28: =K23/SUM(K$21:K$25) -> 0.21652925 | L28: =L23/SUM(L$21:L$25) -> 0.20324175 | M28: =L28-I28 -> 0.0097937918 | N28: =L28-K28 -> -0.013287497
B29: =B24&" %" -> East(4) % | C29: % | D29: =D24/SUM(D$21:D$25) -> 0.13423008 | E29: =E24/SUM(E$21:E$25) -> 0.1352493 | F29: =E29-D29 -> 0.0010192192 | H29: =H24/SUM(H$21:H$25) -> 0.13423008 | I29: =I24/SUM(I$21:I$25) -> 0.13187247 | J29: =J24/SUM(J$21:J$25) -> 0.13210931 | K29: =K24/SUM(K$21:K$25) -> 0.1352493 | L29: =L24/SUM(L$21:L$25) -> 0.1348408 | M29: =L29-I29 -> 0.002968331 | N29: =L29-K29 -> -0.00040849591
B30: =B25&" %" -> Central (5) % | C30: % | D30: =D25/SUM(D$21:D$25) -> 0.053843744 | E30: =E25/SUM(E$21:E$25) -> 0.033065248 | F30: =E30-D30 -> -0.020778496 | H30: =H25/SUM(H$21:H$25) -> 0.053843744 | I30: =I25/SUM(I$21:I$25) -> 0.051734225 | J30: =J25/SUM(J$21:J$25) -> 0.052824581 | K30: =K25/SUM(K$21:K$25) -> 0.033065248 | L30: =L25/SUM(L$21:L$25) -> 0.047991281 | M30: =L30-I30 -> -0.0037429441 | N30: =L30-K30 -> 0.014926032
B31: (1)Includes the states of Karnataka, Kerala, Andhra Pradesh, Tamil Nadu, Telangana, Pondicherry, Andaman & Nicobar and Lakshadweep.
B32: (2)Includes the states of Maharashtra, Gujarat, Rajasthan, Goa, Daman & Diu, Dadra and Nagar.
B33: (3) Includes the states of Delhi, Haryana, Chandigarh, Himachal Pradesh, Jammu & Kashmir, Punjab, Uttar Pradesh, Uttarakhand and Uttaranchal.
B34: (4)Includes the states of Arunachal Pradesh, Assam, Bihar, Jharkhand, Manipur, Meghalaya, Mizoram, Nagaland, Odisha, Sikkim, Tripura and West Bengal.
B35: (5)Includes the states of Madhya Pradesh & Chhattisgarh.
B38: Asset Quality (On-Book) | C38: ='Operating metrics'!C$5 -> Unit | D38: =D$5 -> FY25 | E38: =E$5 -> FY26 | F38: =F$5 -> YoY Δ | H38: =H$5 -> Q4FY25 | I38: =I$5 -> Q1FY26 | J38: =J$5 -> Q3FY26 | K38: =K$5 -> Q4FY26 | L38: =L$5 -> Q1FY27 | M38: =M$5 -> YoY Δ | N38: =N$5 -> QoQ Δ
B39: Gross Stage 1 Loans | C39: ₹ in crs | D39: 2315.697 | E39: 3397.25 | F39: =E39/D39-1 -> 0.4670529 | H39: 2315.697 | I39: 2413.673 | J39: 2838.114 | K39: 3397.25 | L39: 3515.7582 | M39: =L39/I39-1 -> 0.45660086 | N39: =L39/K39-1 -> 0.034883556
B40: Gross Stage 2 Loans | C40: ₹ in crs | D40: 87.237 | E40: 83.62 | F40: =E40/D40-1 -> -0.041461765 | H40: 87.237 | I40: 101.728 | J40: 118.653 | K40: 83.62 | L40: 116.98023 | M40: =L40/I40-1 -> 0.1499315 | N40: =L40/K40-1 -> 0.39895039
B41: Gross Stage 3 Loans (GNPA) | C41: ₹ in crs | D41: 71.625 | E41: 75.39 | F41: =E41/D41-1 -> 0.052565445 | H41: 71.625 | I41: 95.049 | J41: 88.366 | K41: 75.39 | L41: 83.559552 | M41: =L41/I41-1 -> -0.12087921 | N41: =L41/K41-1 -> 0.10836387
B43: ECL - Stage 1 | C43: ₹ in crs | D43: 64.69 | E43: 102.8 | F43: =E43/D43-1 -> 0.58911733 | H43: 64.69 | I43: 79.2968 | J43: 79.229 | K43: 102.8 | L43: 119.55315 | M43: =L43/I43-1 -> 0.50766679 | N43: =L43/K43-1 -> 0.1629684
B44: ECL - Stage 2 | C44: ₹ in crs | D44: 51.615 | E44: 63.2 | F44: =E44/D44-1 -> 0.22445026 | H44: 51.615 | I44: 60.1554 | J44: 74.163 | K44: 63.2 | L44: 94.095395 | M44: =L44/I44-1 -> 0.56420529 | N44: =L44/K44-1 -> 0.48885118
B45: ECL - Stage 3 | C45: ₹ in crs | D45: 65.52 | E45: 64.95 | F45: =E45/D45-1 -> -0.0086996337 | H45: 65.52 | I45: 86.17 | J45: 76.771 | K45: 64.95 | L45: 70.298083 | M45: =L45/I45-1 -> -0.18419307 | N45: =L45/K45-1 -> 0.082341536
B47: PCR / ECL - Stage 1 % | C47: % | D47: =D43/D39 -> 0.027935434 | E47: =E43/E39 -> 0.030259769 | F47: =E47-D47 -> 0.0023243352 | H47: =H43/H39 -> 0.027935434 | I47: =I43/I39 -> 0.032853166 | J47: =J43/J39 -> 0.027916074 | K47: =K43/K39 -> 0.030259769 | L47: =L43/L39 -> 0.034004942 | M47: =L47-I47 -> 0.0011517758 | N47: =L47-K47 -> 0.0037451729
B48: PCR / ECL - Stage 2 % | C48: % | D48: =D44/D40 -> 0.59166409 | E48: =E44/E40 -> 0.75580005 | F48: =E48-D48 -> 0.16413596 | H48: =H44/H40 -> 0.59166409 | I48: =I44/I40 -> 0.59133572 | J48: =J44/J40 -> 0.62504109 | K48: =K44/K40 -> 0.75580005 | L48: =L44/L40 -> 0.80437005 | M48: =L48-I48 -> 0.21303433 | N48: =L48-K48 -> 0.048570004
...

Sheet Employees
B5: Employee Counts | C5: Unit | D5: FY25 | E5: FY26 | F5: YoY Δ | H5: Q4FY25 | I5: Q1FY26 | J5: Q3FY26 | K5: Q4FY26 | L5: Q1FY27 | M5: YoY Δ | N5: QoQ Δ
B6: Total Employees (Onroll) | C6: # | D6: =SUM(D7:D12) -> 1278 | E6: =SUM(E7:E12) -> 2081 | F6: =IFERROR(E6/D6-1,"na") -> 0.62832551 | H6: =SUM(H7:H12) -> 1278 | I6: =SUM(I7:I12) -> 1640 | J6: =SUM(J7:J12) -> 1958 | K6: =SUM(K7:K12) -> 2081 | L6: =SUM(L7:L12) -> 2167 | M6: =IFERROR(L6/I6-1,"na") -> 0.32134146 | N6: =IFERROR(L6/K6-1,"na") -> 0.041326285
B7: Technology and System | C7: # | D7: 298 | E7: 326 | F7: =IFERROR(E7/D7-1,"na") -> 0.093959732 | H7: =D7 -> 298 | I7: 327 | J7: 331 | K7: 326 | L7: 327 | M7: =IFERROR(L7/I7-1,"na") -> 0 | N7: =IFERROR(L7/K7-1,"na") -> 0.0030674847
B8: Data Science | C8: # | D8: 27 | E8: 41 | F8: =IFERROR(E8/D8-1,"na") -> 0.51851852 | H8: =D8 -> 27 | I8: 36 | J8: 42 | K8: 41 | L8: 48 | M8: =IFERROR(L8/I8-1,"na") -> 0.33333333 | N8: =IFERROR(L8/K8-1,"na") -> 0.17073171
B9: LAP | C9: # | D9: 521 | E9: 1084 | F9: =IFERROR(E9/D9-1,"na") -> 1.0806142 | H9: =D9 -> 521 | I9: 743 | J9: 970 | K9: 1084 | L9: 1128 | M9: =IFERROR(L9/I9-1,"na") -> 0.51816958 | N9: =IFERROR(L9/K9-1,"na") -> 0.040590406
B10: Customer service and collection | C10: # | D10: 281 | E10: 470 | F10: =IFERROR(E10/D10-1,"na") -> 0.67259786 | H10: =D10 -> 281 | I10: 379 | J10: 456 | K10: 470 | L10: 495 | M10: =IFERROR(L10/I10-1,"na") -> 0.3060686 | N10: =IFERROR(L10/K10-1,"na") -> 0.053191489
B11: Marketing | C11: # | D11: 20 | E11: 28 | F11: =IFERROR(E11/D11-1,"na") -> 0.4 | H11: =D11 -> 20 | I11: 20 | J11: 27 | K11: 28 | L11: 33 | M11: =IFERROR(L11/I11-1,"na") -> 0.65 | N11: =IFERROR(L11/K11-1,"na") -> 0.17857143
B12: Others ^ | C12: # | D12: 131 | E12: 132 | F12: =IFERROR(E12/D12-1,"na") -> 0.0076335878 | H12: =D12 -> 131 | I12: 135 | J12: 132 | K12: 132 | L12: 136 | M12: =IFERROR(L12/I12-1,"na") -> 0.0074074074 | N12: =IFERROR(L12/K12-1,"na") -> 0.03030303
B13: ^ includes Senior Management team, Account, Treasury, Investor Relations, Legal & Compliance and other support team
B15: LAP Branch details | C15: =C$5 -> Unit | D15: =D$5 -> FY25 | E15: =E$5 -> FY26 | F15: =F$5 -> YoY Δ | H15: =H$5 -> Q4FY25 | I15: =I$5 -> Q1FY26 | J15: =J$5 -> Q3FY26 | K15: =K$5 -> Q4FY26 | L15: =L$5 -> Q1FY27 | M15: =M$5 -> YoY Δ | N15: =N$5 -> QoQ Δ
B16: Operational Branches | C16: # | D16: 62 | E16: 98 | F16: =IFERROR(E16/D16-1,"na") -> 0.58064516 | H16: 62 | I16: 72 | J16: 82 | K16: 98 | L16: 101 | M16: =IFERROR(L16/I16-1,"na") -> 0.40277778 | N16: =IFERROR(L16/K16-1,"na") -> 0.030612245
B17: Count of States & Union Territory (UT) | C17: # | D17: 7 | E17: 8 | F17: =IFERROR(E17/D17-1,"na") -> 0.14285714 | H17: 7 | I17: 7 | J17: 8 | K17: 8 | L17: 8 | M17: =IFERROR(L17/I17-1,"na") -> 0.14285714 | N17: =IFERROR(L17/K17-1,"na") -> 0
B18: Branch Count By State/UT
B19: Uttar Pradesh | C19: # | D19: 12 | E19: 25 | F19: =IFERROR(E19/D19-1,"na") -> 1.0833333 | H19: 12 | I19: 17 | J19: 20 | K19: 25 | L19: 25 | M19: =IFERROR(L19/I19-1,"na") -> 0.47058824 | N19: =IFERROR(L19/K19-1,"na") -> 0
B20: Andhra Pradesh | C20: # | D20: 8 | E20: 22 | F20: =IFERROR(E20/D20-1,"na") -> 1.75 | H20: 8 | I20: 10 | J20: 11 | K20: 22 | L20: 24 | M20: =IFERROR(L20/I20-1,"na") -> 1.4 | N20: =IFERROR(L20/K20-1,"na") -> 0.090909091
B21: Maharashtra | C21: # | D21: 17 | E21: 18 | F21: =IFERROR(E21/D21-1,"na") -> 0.058823529 | H21: 17 | I21: 18 | J21: 18 | K21: 18 | L21: 18 | M21: =IFERROR(L21/I21-1,"na") -> 0 | N21: =IFERROR(L21/K21-1,"na") -> 0
B22: Tamil Nadu | C22: # | D22: 14 | E22: 16 | F22: =IFERROR(E22/D22-1,"na") -> 0.14285714 | H22: 14 | I22: 16 | J22: 16 | K22: 16 | L22: 17 | M22: =IFERROR(L22/I22-1,"na") -> 0.0625 | N22: =IFERROR(L22/K22-1,"na") -> 0.0625
B23: Gujarat | C23: # | D23: 9 | E23: 10 | F23: =IFERROR(E23/D23-1,"na") -> 0.11111111 | H23: 9 | I23: 9 | J23: 10 | K23: 10 | L23: 10 | M23: =IFERROR(L23/I23-1,"na") -> 0.11111111 | N23: =IFERROR(L23/K23-1,"na") -> 0
B24: Uttarakhand | C24: # | D24: 1 | E24: 1 | F24: =IFERROR(E24/D24-1,"na") -> 0 | H24: 1 | I24: 1 | J24: 1 | K24: 1 | L24: 1 | M24: =IFERROR(L24/I24-1,"na") -> 0 | N24: =IFERROR(L24/K24-1,"na") -> 0
B25: Puducherry | C25: # | D25: 1 | E25: 1 | F25: =IFERROR(E25/D25-1,"na") -> 0 | H25: 1 | I25: 1 | J25: 1 | K25: 1 | L25: 1 | M25: =IFERROR(L25/I25-1,"na") -> 0 | N25: =IFERROR(L25/K25-1,"na") -> 0
B26: Telangana | C26: # | D26: 0 | E26: 5 | F26: =IFERROR(E26/D26-1,"na") -> na | H26: 0 | I26: 0 | J26: 5 | K26: 5 | L26: 5 | M26: =IFERROR(L26/I26-1,"na") -> na | N26: =IFERROR(L26/K26-1,"na") -> 0
